BEGIN:VCALENDAR
VERSION:2.0
PRODID:-//destination.one//NONSGML destination.meta API//DE
X-WR-CALDESC:A calendar powered by destination.meta
X-WR-CALNAME:lueneburg Kalender via destination.meta
BEGIN:VEVENT
CATEGORIES:Konzert
CATEGORIES:Open Air sonstige
DESCRIPTION:Eine dunkelromantische Trilogie ist abgeschlossen: Mit seinem n
 euen Album\, »Am Anfang«\, strebt Tristan Brusch nach allem\, was wehtut\,
  sich entzieht oder eigentlich zu groß ist\, um es auszuhalten. Er schreib
 t dazu süchtig machende\, gefährliche Songs\, die magische Eingängigkeit m
 it inhaltlicher Tiefe verbinden.\n\nmehr Informationen unter http://pages.
 destination.one/de/lueneburg/streaming/detail/Event/e_101205021/schr-ders-
 garten-tristan-brusch
DTEND;TZID=Europe/Berlin:20260904T220000
DTSTAMP:20260422T085102Z
DTSTART;TZID=Europe/Berlin:20260904T193000
GEO:53.244960;10.414910
LOCATION:Schröders Garten\, Vor dem Roten Tore 72b\, Lüneburg
ORGANIZER;CN=heiter & wolkig GmbH:mailto:johanna@heiterundwolkig.de
SEQUENCE:0
SUMMARY:Schröders Garten: Tristan Brusch
UID:e_101205021_iv0
URL:http://pages.destination.one/de/lueneburg/streaming/detail/Event/e_1012
 05021/schr-ders-garten-tristan-brusch
END:VEVENT
BEGIN:VTIMEZONE
TZID:Europe/Berlin
X-LIC-LOCATION:Europe/Berlin
BEGIN:DAYLIGHT
DTSTART:19700329T020000
RRULE:FREQ=YEARLY;BYDAY=-1SU;BYMONTH=3
TZNAME:CEST
TZOFFSETFROM:+0100
TZOFFSETTO:+0200
END:DAYLIGHT
BEGIN:STANDARD
DTSTART:19701025T030000
RRULE:FREQ=YEARLY;BYDAY=-1SU;BYMONTH=10
TZNAME:CET
TZOFFSETFROM:+0200
TZOFFSETTO:+0100
END:STANDARD
END:VTIMEZONE
END:VCALENDAR
