BEGIN:VCALENDAR
VERSION:2.0
PRODID:-//destination.one//NONSGML destination.meta API//DE
X-WR-CALDESC:A calendar powered by destination.meta
X-WR-CALNAME:lueneburg Kalender via destination.meta
BEGIN:VEVENT
CATEGORIES:Konzert
CATEGORIES:Open Air sonstige
DESCRIPTION:Mit “Between the Bars” und „Between the 80’s” verzauberten Plew
 ka und Schmedtje in den letzten Jahren ihr Publikum bereits in zahlreichen
  ausverkauften Shows.\nAnfang 2026 kommen die beiden jetzt mit „Between th
 e Lights” mit neuem Programm inkl. EP zurück auf die Bühnen.\n\nmehr Infor
 mationen unter http://pages.destination.one/de/lueneburg/streaming/detail/
 Event/e_101205025/schr-ders-garten-jan-plewka-marco-schmedtje
DTEND;TZID=Europe/Berlin:20260919T220000
DTSTAMP:20260421T091414Z
DTSTART;TZID=Europe/Berlin:20260919T193000
GEO:53.244960;10.414910
LOCATION:Schröders Garten\, Vor dem Roten Tore 72b\, Lüneburg
ORGANIZER;CN=heiter & wolkig GmbH:mailto:johanna@heiterundwolkig.de
SEQUENCE:0
SUMMARY:Schröders Garten: Jan Plewka & Marco Schmedtje
UID:e_101205025_iv0
URL:http://pages.destination.one/de/lueneburg/streaming/detail/Event/e_1012
 05025/schr-ders-garten-jan-plewka-marco-schmedtje
END:VEVENT
BEGIN:VTIMEZONE
TZID:Europe/Berlin
X-LIC-LOCATION:Europe/Berlin
BEGIN:DAYLIGHT
DTSTART:19700329T020000
RRULE:FREQ=YEARLY;BYDAY=-1SU;BYMONTH=3
TZNAME:CEST
TZOFFSETFROM:+0100
TZOFFSETTO:+0200
END:DAYLIGHT
BEGIN:STANDARD
DTSTART:19701025T030000
RRULE:FREQ=YEARLY;BYDAY=-1SU;BYMONTH=10
TZNAME:CET
TZOFFSETFROM:+0200
TZOFFSETTO:+0100
END:STANDARD
END:VTIMEZONE
END:VCALENDAR
