BEGIN:VCALENDAR
VERSION:2.0
PRODID:-//destination.one//NONSGML destination.meta API//DE
X-WR-CALDESC:A calendar powered by destination.meta
X-WR-CALNAME:lueneburg Kalender via destination.meta
BEGIN:VEVENT
CATEGORIES:Comedy
CATEGORIES:Festival
CATEGORIES:Kabarett
CATEGORIES:Konzert
CATEGORIES:Musical
CATEGORIES:Musik sonstige
CATEGORIES:Open Air sonstige
DESCRIPTION:Paradiesvogel – Tour 2026\nMiss Allie gilt als eine der humorvo
 llsten Singer-Songwriterinnen im deutschsprachigen Raum und überragende En
 tertainerin. Sie bringt eine einzigartige Mischung aus modernem Liedermach
 ing\, charmantem Humor und scharfsinniger Sozialkritik auf die Bühne. Ihre
  Konzerte sind wahrhaftige Gemeinschaftsereignisse\, bei denen sie oft spo
 ntan und schlagfertig mit dem Publikum interagiert und ihre Lieder in humo
 rvolle Anekdoten und persönliche Geschichten einbettet.\nMiss Allie hat „F
 unny Bones“ und so verwundert es nicht\, dass sie als Musikerin auch regel
 mäßig in Comedyformaten zu sehen ist. Sie stand bereits mehrfach mit Carol
 in Kebekus auf der Bühne. Olli Schulz empfahl ihr letztes Album im Podcast
  mit Jan Böhmermann\, ein ARTE Concert durfte sie schon spielen. Sie ist z
 ahlreich preisgekrönt und regelmäßig präsent in TV und Radio\, zudem gerng
 esehener Gast in Talkshows. Nach drei Alben und immer umfangreicheren Tour
 neen\, entsteht zurzeit Miss Allies 4. Album. Am 23.07.2026 ist Miss Allie
  im Kurpark in Lüneburg zu Gast.\n\nmehr Informationen unter http://pages.
 destination.one/de/lueneburg/streaming/detail/Event/e_101205843/miss-allie
 -l-neburger-kultursommer
DTEND;TZID=Europe/Berlin:20260723T220000
DTSTAMP:20260420T123825Z
DTSTART;TZID=Europe/Berlin:20260723T170000
GEO:53.246452;10.396253
LOCATION:Sülzwiesen Festivalgelände KUSO\, Schnellenberger Weg / Am Grasweg
 \, Lüneburg
ORGANIZER;CN=Campus Management GmbH:mailto:info@campuslueneburg.de
SEQUENCE:0
SUMMARY:Miss Allie – Lüneburger Kultursommer
UID:e_101205843_iv0
URL:http://pages.destination.one/de/lueneburg/streaming/detail/Event/e_1012
 05843/miss-allie-l-neburger-kultursommer
END:VEVENT
BEGIN:VTIMEZONE
TZID:Europe/Berlin
X-LIC-LOCATION:Europe/Berlin
BEGIN:DAYLIGHT
DTSTART:19700329T020000
RRULE:FREQ=YEARLY;BYDAY=-1SU;BYMONTH=3
TZNAME:CEST
TZOFFSETFROM:+0100
TZOFFSETTO:+0200
END:DAYLIGHT
BEGIN:STANDARD
DTSTART:19701025T030000
RRULE:FREQ=YEARLY;BYDAY=-1SU;BYMONTH=10
TZNAME:CET
TZOFFSETFROM:+0200
TZOFFSETTO:+0100
END:STANDARD
END:VTIMEZONE
END:VCALENDAR
