BEGIN:VCALENDAR
VERSION:2.0
PRODID:-//destination.one//NONSGML destination.meta API//DE
X-WR-CALDESC:A calendar powered by destination.meta
X-WR-CALNAME:lueneburg Kalender via destination.meta
BEGIN:VEVENT
CATEGORIES:Freilichttheater
CATEGORIES:Musiktheater
CATEGORIES:Theater sonstige
DESCRIPTION:Das Theater Lüneburg und der Lüneburger Kultursommer präsentier
 en:\nEin SommernachtstraumEine Popkomödie frei nach William Shakespeare in
  einer Fassung für das Theater Lüneburg von Gregor Müller und Philip Riche
 rt\n„Struwwelpeter“\, „The Black Rider“\, „Der Sturm“: Wer von diesen Prod
 uktionen Fan war - und das waren viele -\, wird vermutlich auch „Ein Somme
 rnachtstraum“ mit Freude erwarten. Es ist das nächste große Projekt vom Te
 am Müller / Richert. Wieder entwerfen sie mit Swana Gutke eine Ausstattung
  in ihrem ganz eigenen Style. Und wie beim „Sturm“ schreiben sie die Fassu
 ng und die Musik\, zusammen mit Olaf Niebuhr. Und noch einmal wenden sie s
 ich einem der großen Stoffe von William Shakespeare zu\, der selbst schon 
 pralles Leben\, viel Komik und eine gute Portion Sentiment verspricht.\n„H
 ow happy some people can be“\, heißt einer der Songs. Wie glücklich manche
  Menschen sein können. Die Liebenden in dieser berühmten Komödie von Shake
 speare sind es ganz und gar nicht. Hermia liebt Lysander\, soll aber Demet
 rius heiraten. Der wiederum wird von Helena geliebt\, weist sie aber zurüc
 k. Die Eifersucht führt zu heftigen Streits – und das am Vorabend der Hoch
 zeit von Theo und Hilde\, im Original Herzog und Amazonenkönigin\, bei Mül
 ler / Richert hingegen Bürgermeister und Witwe\, die sich auf einem Schütz
 enfest nähergekommen sind. Überhaupt: das Dorf und seine Bewohner! Sie pro
 ben ein Stück für die Hochzeit und poltern sich mal mehr\, mal weniger beg
 abt durch Sprache\, Handlung und Figuren: „Lass mich den Löwen auch noch s
 pielen!“ \nDie Liebenden flüchten in den Wald – und tauchen ein in die Zau
 berwelt von Oberon und Titania\, die ihre eigenen Liebeshändel ausfechten.
  Der mysteriöse Puck wiederum spielt sein eigenes\, alles verwirrende Spie
 l. Die Liebe obsiegt am Ende trotzdem. Oder?\nInszenierung: Gregor Müller\
 , Philip Richert // Kostümbild: Swana Gutke a. G. // Musikalische Leitung:
  Olaf Niebuhr a. G.\nOpen-Air Theater im Kurpark. Für Tourist:innen wie fü
 r Lüneburger:innen gleichermaßen bietet das Theater in Kooperation mit Cam
 pus Management GmbH das zweite "Lüneburger Sommernachtstheater" an. In der
  wunderschönen\, romantischen Atmosphäre des Kurparks entsteht ein zauberh
 after Abend\, eingängige Musik und beste Unterhaltung machen den Abend zu 
 einem unvergesslichen Erlebnis.\n\nmehr Informationen unter http://pages.d
 estination.one/de/lueneburg/streaming/detail/Event/e_101205869/ein-sommern
 achtstraum-l-neburger-kultursommer
DTEND;TZID=Europe/Berlin:20260812T220000
DTSTAMP:20260422T084345Z
DTSTART;TZID=Europe/Berlin:20260812T183000
GEO:53.246452;10.396253
LOCATION:Sülzwiesen Festivalgelände KUSO\, Schnellenberger Weg / Am Grasweg
 \, Lüneburg
ORGANIZER;CN=Campus Management GmbH:mailto:info@campuslueneburg.de
SEQUENCE:0
SUMMARY:Ein Sommernachtstraum – Lüneburger Kultursommer
UID:e_101205869_iv0
URL:http://pages.destination.one/de/lueneburg/streaming/detail/Event/e_1012
 05869/ein-sommernachtstraum-l-neburger-kultursommer
END:VEVENT
BEGIN:VEVENT
CATEGORIES:Freilichttheater
CATEGORIES:Musiktheater
CATEGORIES:Theater sonstige
DESCRIPTION:Das Theater Lüneburg und der Lüneburger Kultursommer präsentier
 en:\nEin SommernachtstraumEine Popkomödie frei nach William Shakespeare in
  einer Fassung für das Theater Lüneburg von Gregor Müller und Philip Riche
 rt\n„Struwwelpeter“\, „The Black Rider“\, „Der Sturm“: Wer von diesen Prod
 uktionen Fan war - und das waren viele -\, wird vermutlich auch „Ein Somme
 rnachtstraum“ mit Freude erwarten. Es ist das nächste große Projekt vom Te
 am Müller / Richert. Wieder entwerfen sie mit Swana Gutke eine Ausstattung
  in ihrem ganz eigenen Style. Und wie beim „Sturm“ schreiben sie die Fassu
 ng und die Musik\, zusammen mit Olaf Niebuhr. Und noch einmal wenden sie s
 ich einem der großen Stoffe von William Shakespeare zu\, der selbst schon 
 pralles Leben\, viel Komik und eine gute Portion Sentiment verspricht.\n„H
 ow happy some people can be“\, heißt einer der Songs. Wie glücklich manche
  Menschen sein können. Die Liebenden in dieser berühmten Komödie von Shake
 speare sind es ganz und gar nicht. Hermia liebt Lysander\, soll aber Demet
 rius heiraten. Der wiederum wird von Helena geliebt\, weist sie aber zurüc
 k. Die Eifersucht führt zu heftigen Streits – und das am Vorabend der Hoch
 zeit von Theo und Hilde\, im Original Herzog und Amazonenkönigin\, bei Mül
 ler / Richert hingegen Bürgermeister und Witwe\, die sich auf einem Schütz
 enfest nähergekommen sind. Überhaupt: das Dorf und seine Bewohner! Sie pro
 ben ein Stück für die Hochzeit und poltern sich mal mehr\, mal weniger beg
 abt durch Sprache\, Handlung und Figuren: „Lass mich den Löwen auch noch s
 pielen!“ \nDie Liebenden flüchten in den Wald – und tauchen ein in die Zau
 berwelt von Oberon und Titania\, die ihre eigenen Liebeshändel ausfechten.
  Der mysteriöse Puck wiederum spielt sein eigenes\, alles verwirrende Spie
 l. Die Liebe obsiegt am Ende trotzdem. Oder?\nInszenierung: Gregor Müller\
 , Philip Richert // Kostümbild: Swana Gutke a. G. // Musikalische Leitung:
  Olaf Niebuhr a. G.\nOpen-Air Theater im Kurpark. Für Tourist:innen wie fü
 r Lüneburger:innen gleichermaßen bietet das Theater in Kooperation mit Cam
 pus Management GmbH das zweite "Lüneburger Sommernachtstheater" an. In der
  wunderschönen\, romantischen Atmosphäre des Kurparks entsteht ein zauberh
 after Abend\, eingängige Musik und beste Unterhaltung machen den Abend zu 
 einem unvergesslichen Erlebnis.\n\nmehr Informationen unter http://pages.d
 estination.one/de/lueneburg/streaming/detail/Event/e_101205869/ein-sommern
 achtstraum-l-neburger-kultursommer
DTEND;TZID=Europe/Berlin:20260813T235900
DTSTAMP:20260422T084345Z
DTSTART;TZID=Europe/Berlin:20260813T183000
GEO:53.246452;10.396253
LOCATION:Sülzwiesen Festivalgelände KUSO\, Schnellenberger Weg / Am Grasweg
 \, Lüneburg
ORGANIZER;CN=Campus Management GmbH:mailto:info@campuslueneburg.de
SEQUENCE:0
SUMMARY:Ein Sommernachtstraum – Lüneburger Kultursommer
UID:e_101205869_iv1
URL:http://pages.destination.one/de/lueneburg/streaming/detail/Event/e_1012
 05869/ein-sommernachtstraum-l-neburger-kultursommer
END:VEVENT
BEGIN:VEVENT
CATEGORIES:Freilichttheater
CATEGORIES:Musiktheater
CATEGORIES:Theater sonstige
DESCRIPTION:Das Theater Lüneburg und der Lüneburger Kultursommer präsentier
 en:\nEin SommernachtstraumEine Popkomödie frei nach William Shakespeare in
  einer Fassung für das Theater Lüneburg von Gregor Müller und Philip Riche
 rt\n„Struwwelpeter“\, „The Black Rider“\, „Der Sturm“: Wer von diesen Prod
 uktionen Fan war - und das waren viele -\, wird vermutlich auch „Ein Somme
 rnachtstraum“ mit Freude erwarten. Es ist das nächste große Projekt vom Te
 am Müller / Richert. Wieder entwerfen sie mit Swana Gutke eine Ausstattung
  in ihrem ganz eigenen Style. Und wie beim „Sturm“ schreiben sie die Fassu
 ng und die Musik\, zusammen mit Olaf Niebuhr. Und noch einmal wenden sie s
 ich einem der großen Stoffe von William Shakespeare zu\, der selbst schon 
 pralles Leben\, viel Komik und eine gute Portion Sentiment verspricht.\n„H
 ow happy some people can be“\, heißt einer der Songs. Wie glücklich manche
  Menschen sein können. Die Liebenden in dieser berühmten Komödie von Shake
 speare sind es ganz und gar nicht. Hermia liebt Lysander\, soll aber Demet
 rius heiraten. Der wiederum wird von Helena geliebt\, weist sie aber zurüc
 k. Die Eifersucht führt zu heftigen Streits – und das am Vorabend der Hoch
 zeit von Theo und Hilde\, im Original Herzog und Amazonenkönigin\, bei Mül
 ler / Richert hingegen Bürgermeister und Witwe\, die sich auf einem Schütz
 enfest nähergekommen sind. Überhaupt: das Dorf und seine Bewohner! Sie pro
 ben ein Stück für die Hochzeit und poltern sich mal mehr\, mal weniger beg
 abt durch Sprache\, Handlung und Figuren: „Lass mich den Löwen auch noch s
 pielen!“ \nDie Liebenden flüchten in den Wald – und tauchen ein in die Zau
 berwelt von Oberon und Titania\, die ihre eigenen Liebeshändel ausfechten.
  Der mysteriöse Puck wiederum spielt sein eigenes\, alles verwirrende Spie
 l. Die Liebe obsiegt am Ende trotzdem. Oder?\nInszenierung: Gregor Müller\
 , Philip Richert // Kostümbild: Swana Gutke a. G. // Musikalische Leitung:
  Olaf Niebuhr a. G.\nOpen-Air Theater im Kurpark. Für Tourist:innen wie fü
 r Lüneburger:innen gleichermaßen bietet das Theater in Kooperation mit Cam
 pus Management GmbH das zweite "Lüneburger Sommernachtstheater" an. In der
  wunderschönen\, romantischen Atmosphäre des Kurparks entsteht ein zauberh
 after Abend\, eingängige Musik und beste Unterhaltung machen den Abend zu 
 einem unvergesslichen Erlebnis.\n\nmehr Informationen unter http://pages.d
 estination.one/de/lueneburg/streaming/detail/Event/e_101205869/ein-sommern
 achtstraum-l-neburger-kultursommer
DTEND;TZID=Europe/Berlin:20260814T235900
DTSTAMP:20260422T084345Z
DTSTART;TZID=Europe/Berlin:20260814T183000
GEO:53.246452;10.396253
LOCATION:Sülzwiesen Festivalgelände KUSO\, Schnellenberger Weg / Am Grasweg
 \, Lüneburg
ORGANIZER;CN=Campus Management GmbH:mailto:info@campuslueneburg.de
SEQUENCE:0
SUMMARY:Ein Sommernachtstraum – Lüneburger Kultursommer
UID:e_101205869_iv2
URL:http://pages.destination.one/de/lueneburg/streaming/detail/Event/e_1012
 05869/ein-sommernachtstraum-l-neburger-kultursommer
END:VEVENT
BEGIN:VEVENT
CATEGORIES:Freilichttheater
CATEGORIES:Musiktheater
CATEGORIES:Theater sonstige
DESCRIPTION:Das Theater Lüneburg und der Lüneburger Kultursommer präsentier
 en:\nEin SommernachtstraumEine Popkomödie frei nach William Shakespeare in
  einer Fassung für das Theater Lüneburg von Gregor Müller und Philip Riche
 rt\n„Struwwelpeter“\, „The Black Rider“\, „Der Sturm“: Wer von diesen Prod
 uktionen Fan war - und das waren viele -\, wird vermutlich auch „Ein Somme
 rnachtstraum“ mit Freude erwarten. Es ist das nächste große Projekt vom Te
 am Müller / Richert. Wieder entwerfen sie mit Swana Gutke eine Ausstattung
  in ihrem ganz eigenen Style. Und wie beim „Sturm“ schreiben sie die Fassu
 ng und die Musik\, zusammen mit Olaf Niebuhr. Und noch einmal wenden sie s
 ich einem der großen Stoffe von William Shakespeare zu\, der selbst schon 
 pralles Leben\, viel Komik und eine gute Portion Sentiment verspricht.\n„H
 ow happy some people can be“\, heißt einer der Songs. Wie glücklich manche
  Menschen sein können. Die Liebenden in dieser berühmten Komödie von Shake
 speare sind es ganz und gar nicht. Hermia liebt Lysander\, soll aber Demet
 rius heiraten. Der wiederum wird von Helena geliebt\, weist sie aber zurüc
 k. Die Eifersucht führt zu heftigen Streits – und das am Vorabend der Hoch
 zeit von Theo und Hilde\, im Original Herzog und Amazonenkönigin\, bei Mül
 ler / Richert hingegen Bürgermeister und Witwe\, die sich auf einem Schütz
 enfest nähergekommen sind. Überhaupt: das Dorf und seine Bewohner! Sie pro
 ben ein Stück für die Hochzeit und poltern sich mal mehr\, mal weniger beg
 abt durch Sprache\, Handlung und Figuren: „Lass mich den Löwen auch noch s
 pielen!“ \nDie Liebenden flüchten in den Wald – und tauchen ein in die Zau
 berwelt von Oberon und Titania\, die ihre eigenen Liebeshändel ausfechten.
  Der mysteriöse Puck wiederum spielt sein eigenes\, alles verwirrende Spie
 l. Die Liebe obsiegt am Ende trotzdem. Oder?\nInszenierung: Gregor Müller\
 , Philip Richert // Kostümbild: Swana Gutke a. G. // Musikalische Leitung:
  Olaf Niebuhr a. G.\nOpen-Air Theater im Kurpark. Für Tourist:innen wie fü
 r Lüneburger:innen gleichermaßen bietet das Theater in Kooperation mit Cam
 pus Management GmbH das zweite "Lüneburger Sommernachtstheater" an. In der
  wunderschönen\, romantischen Atmosphäre des Kurparks entsteht ein zauberh
 after Abend\, eingängige Musik und beste Unterhaltung machen den Abend zu 
 einem unvergesslichen Erlebnis.\n\nmehr Informationen unter http://pages.d
 estination.one/de/lueneburg/streaming/detail/Event/e_101205869/ein-sommern
 achtstraum-l-neburger-kultursommer
DTEND;TZID=Europe/Berlin:20260815T220000
DTSTAMP:20260422T084345Z
DTSTART;TZID=Europe/Berlin:20260815T183000
GEO:53.246452;10.396253
LOCATION:Sülzwiesen Festivalgelände KUSO\, Schnellenberger Weg / Am Grasweg
 \, Lüneburg
ORGANIZER;CN=Campus Management GmbH:mailto:info@campuslueneburg.de
SEQUENCE:0
SUMMARY:Ein Sommernachtstraum – Lüneburger Kultursommer
UID:e_101205869_iv3
URL:http://pages.destination.one/de/lueneburg/streaming/detail/Event/e_1012
 05869/ein-sommernachtstraum-l-neburger-kultursommer
END:VEVENT
BEGIN:VEVENT
CATEGORIES:Freilichttheater
CATEGORIES:Musiktheater
CATEGORIES:Theater sonstige
DESCRIPTION:Das Theater Lüneburg und der Lüneburger Kultursommer präsentier
 en:\nEin SommernachtstraumEine Popkomödie frei nach William Shakespeare in
  einer Fassung für das Theater Lüneburg von Gregor Müller und Philip Riche
 rt\n„Struwwelpeter“\, „The Black Rider“\, „Der Sturm“: Wer von diesen Prod
 uktionen Fan war - und das waren viele -\, wird vermutlich auch „Ein Somme
 rnachtstraum“ mit Freude erwarten. Es ist das nächste große Projekt vom Te
 am Müller / Richert. Wieder entwerfen sie mit Swana Gutke eine Ausstattung
  in ihrem ganz eigenen Style. Und wie beim „Sturm“ schreiben sie die Fassu
 ng und die Musik\, zusammen mit Olaf Niebuhr. Und noch einmal wenden sie s
 ich einem der großen Stoffe von William Shakespeare zu\, der selbst schon 
 pralles Leben\, viel Komik und eine gute Portion Sentiment verspricht.\n„H
 ow happy some people can be“\, heißt einer der Songs. Wie glücklich manche
  Menschen sein können. Die Liebenden in dieser berühmten Komödie von Shake
 speare sind es ganz und gar nicht. Hermia liebt Lysander\, soll aber Demet
 rius heiraten. Der wiederum wird von Helena geliebt\, weist sie aber zurüc
 k. Die Eifersucht führt zu heftigen Streits – und das am Vorabend der Hoch
 zeit von Theo und Hilde\, im Original Herzog und Amazonenkönigin\, bei Mül
 ler / Richert hingegen Bürgermeister und Witwe\, die sich auf einem Schütz
 enfest nähergekommen sind. Überhaupt: das Dorf und seine Bewohner! Sie pro
 ben ein Stück für die Hochzeit und poltern sich mal mehr\, mal weniger beg
 abt durch Sprache\, Handlung und Figuren: „Lass mich den Löwen auch noch s
 pielen!“ \nDie Liebenden flüchten in den Wald – und tauchen ein in die Zau
 berwelt von Oberon und Titania\, die ihre eigenen Liebeshändel ausfechten.
  Der mysteriöse Puck wiederum spielt sein eigenes\, alles verwirrende Spie
 l. Die Liebe obsiegt am Ende trotzdem. Oder?\nInszenierung: Gregor Müller\
 , Philip Richert // Kostümbild: Swana Gutke a. G. // Musikalische Leitung:
  Olaf Niebuhr a. G.\nOpen-Air Theater im Kurpark. Für Tourist:innen wie fü
 r Lüneburger:innen gleichermaßen bietet das Theater in Kooperation mit Cam
 pus Management GmbH das zweite "Lüneburger Sommernachtstheater" an. In der
  wunderschönen\, romantischen Atmosphäre des Kurparks entsteht ein zauberh
 after Abend\, eingängige Musik und beste Unterhaltung machen den Abend zu 
 einem unvergesslichen Erlebnis.\n\nmehr Informationen unter http://pages.d
 estination.one/de/lueneburg/streaming/detail/Event/e_101205869/ein-sommern
 achtstraum-l-neburger-kultursommer
DTEND;TZID=Europe/Berlin:20260816T220000
DTSTAMP:20260422T084345Z
DTSTART;TZID=Europe/Berlin:20260816T183000
GEO:53.246452;10.396253
LOCATION:Sülzwiesen Festivalgelände KUSO\, Schnellenberger Weg / Am Grasweg
 \, Lüneburg
ORGANIZER;CN=Campus Management GmbH:mailto:info@campuslueneburg.de
SEQUENCE:0
SUMMARY:Ein Sommernachtstraum – Lüneburger Kultursommer
UID:e_101205869_iv4
URL:http://pages.destination.one/de/lueneburg/streaming/detail/Event/e_1012
 05869/ein-sommernachtstraum-l-neburger-kultursommer
END:VEVENT
BEGIN:VTIMEZONE
TZID:Europe/Berlin
X-LIC-LOCATION:Europe/Berlin
BEGIN:DAYLIGHT
DTSTART:19700329T020000
RRULE:FREQ=YEARLY;BYDAY=-1SU;BYMONTH=3
TZNAME:CEST
TZOFFSETFROM:+0100
TZOFFSETTO:+0200
END:DAYLIGHT
BEGIN:STANDARD
DTSTART:19701025T030000
RRULE:FREQ=YEARLY;BYDAY=-1SU;BYMONTH=10
TZNAME:CET
TZOFFSETFROM:+0200
TZOFFSETTO:+0100
END:STANDARD
END:VTIMEZONE
END:VCALENDAR
