BEGIN:VCALENDAR
VERSION:2.0
PRODID:-//destination.one//NONSGML destination.meta API//DE
X-WR-CALDESC:A calendar powered by destination.meta
X-WR-CALNAME:lueneburg Kalender via destination.meta
BEGIN:VEVENT
CATEGORIES:... zu Fuß
CATEGORIES:Kostümführung
CATEGORIES:Historische Führung
CATEGORIES:Themenführung
DESCRIPTION:Im Lüneburg des Jahres 1412\, kurz vor Beginn des ersten Treffe
 ns der Hansestädte in der Salzstadt\, berichtet Fuhrmann Johann aus seinem
  früheren Leben als Salzfahrer\, von der Holzversorgung der Saline und dem
  Wandel des Transportwesens mit dem Bau der Stecknitzfahrt.\n\nmehr Inform
 ationen unter http://pages.destination.one/de/lueneburg/streaming/detail/E
 vent/e_101208509/johann-der-fuhrmann
DTEND;TZID=Europe/Berlin:20260405T183000
DTSTAMP:20260422T083916Z
DTSTART;TZID=Europe/Berlin:20260405T170000
GEO:53.250108;10.407422
LOCATION:Tourist-Information Lüneburg\, Rathaus/Am Markt\, Lüneburg
ORGANIZER;CN=Lüneburg Marketing GmbH:mailto:touristik@lueneburg.info
SEQUENCE:0
SUMMARY:Johann\, der Fuhrmann
UID:e_101208509_iv0
URL:http://pages.destination.one/de/lueneburg/streaming/detail/Event/e_1012
 08509/johann-der-fuhrmann
END:VEVENT
BEGIN:VEVENT
CATEGORIES:... zu Fuß
CATEGORIES:Kostümführung
CATEGORIES:Historische Führung
CATEGORIES:Themenführung
DESCRIPTION:Im Lüneburg des Jahres 1412\, kurz vor Beginn des ersten Treffe
 ns der Hansestädte in der Salzstadt\, berichtet Fuhrmann Johann aus seinem
  früheren Leben als Salzfahrer\, von der Holzversorgung der Saline und dem
  Wandel des Transportwesens mit dem Bau der Stecknitzfahrt.\n\nmehr Inform
 ationen unter http://pages.destination.one/de/lueneburg/streaming/detail/E
 vent/e_101208509/johann-der-fuhrmann
DTEND;TZID=Europe/Berlin:20260501T183000
DTSTAMP:20260422T083916Z
DTSTART;TZID=Europe/Berlin:20260501T170000
GEO:53.250108;10.407422
LOCATION:Tourist-Information Lüneburg\, Rathaus/Am Markt\, Lüneburg
ORGANIZER;CN=Lüneburg Marketing GmbH:mailto:touristik@lueneburg.info
SEQUENCE:0
SUMMARY:Johann\, der Fuhrmann
UID:e_101208509_iv1
URL:http://pages.destination.one/de/lueneburg/streaming/detail/Event/e_1012
 08509/johann-der-fuhrmann
END:VEVENT
BEGIN:VEVENT
CATEGORIES:... zu Fuß
CATEGORIES:Kostümführung
CATEGORIES:Historische Führung
CATEGORIES:Themenführung
DESCRIPTION:Im Lüneburg des Jahres 1412\, kurz vor Beginn des ersten Treffe
 ns der Hansestädte in der Salzstadt\, berichtet Fuhrmann Johann aus seinem
  früheren Leben als Salzfahrer\, von der Holzversorgung der Saline und dem
  Wandel des Transportwesens mit dem Bau der Stecknitzfahrt.\n\nmehr Inform
 ationen unter http://pages.destination.one/de/lueneburg/streaming/detail/E
 vent/e_101208509/johann-der-fuhrmann
DTEND;TZID=Europe/Berlin:20260529T183000
DTSTAMP:20260422T083916Z
DTSTART;TZID=Europe/Berlin:20260529T170000
GEO:53.250108;10.407422
LOCATION:Tourist-Information Lüneburg\, Rathaus/Am Markt\, Lüneburg
ORGANIZER;CN=Lüneburg Marketing GmbH:mailto:touristik@lueneburg.info
SEQUENCE:0
SUMMARY:Johann\, der Fuhrmann
UID:e_101208509_iv2
URL:http://pages.destination.one/de/lueneburg/streaming/detail/Event/e_1012
 08509/johann-der-fuhrmann
END:VEVENT
BEGIN:VEVENT
CATEGORIES:... zu Fuß
CATEGORIES:Kostümführung
CATEGORIES:Historische Führung
CATEGORIES:Themenführung
DESCRIPTION:Im Lüneburg des Jahres 1412\, kurz vor Beginn des ersten Treffe
 ns der Hansestädte in der Salzstadt\, berichtet Fuhrmann Johann aus seinem
  früheren Leben als Salzfahrer\, von der Holzversorgung der Saline und dem
  Wandel des Transportwesens mit dem Bau der Stecknitzfahrt.\n\nmehr Inform
 ationen unter http://pages.destination.one/de/lueneburg/streaming/detail/E
 vent/e_101208509/johann-der-fuhrmann
DTEND;TZID=Europe/Berlin:20260612T183000
DTSTAMP:20260422T083916Z
DTSTART;TZID=Europe/Berlin:20260612T170000
GEO:53.250108;10.407422
LOCATION:Tourist-Information Lüneburg\, Rathaus/Am Markt\, Lüneburg
ORGANIZER;CN=Lüneburg Marketing GmbH:mailto:touristik@lueneburg.info
SEQUENCE:0
SUMMARY:Johann\, der Fuhrmann
UID:e_101208509_iv3
URL:http://pages.destination.one/de/lueneburg/streaming/detail/Event/e_1012
 08509/johann-der-fuhrmann
END:VEVENT
BEGIN:VEVENT
CATEGORIES:... zu Fuß
CATEGORIES:Kostümführung
CATEGORIES:Historische Führung
CATEGORIES:Themenführung
DESCRIPTION:Im Lüneburg des Jahres 1412\, kurz vor Beginn des ersten Treffe
 ns der Hansestädte in der Salzstadt\, berichtet Fuhrmann Johann aus seinem
  früheren Leben als Salzfahrer\, von der Holzversorgung der Saline und dem
  Wandel des Transportwesens mit dem Bau der Stecknitzfahrt.\n\nmehr Inform
 ationen unter http://pages.destination.one/de/lueneburg/streaming/detail/E
 vent/e_101208509/johann-der-fuhrmann
DTEND;TZID=Europe/Berlin:20260626T183000
DTSTAMP:20260422T083916Z
DTSTART;TZID=Europe/Berlin:20260626T170000
GEO:53.250108;10.407422
LOCATION:Tourist-Information Lüneburg\, Rathaus/Am Markt\, Lüneburg
ORGANIZER;CN=Lüneburg Marketing GmbH:mailto:touristik@lueneburg.info
SEQUENCE:0
SUMMARY:Johann\, der Fuhrmann
UID:e_101208509_iv4
URL:http://pages.destination.one/de/lueneburg/streaming/detail/Event/e_1012
 08509/johann-der-fuhrmann
END:VEVENT
BEGIN:VEVENT
CATEGORIES:... zu Fuß
CATEGORIES:Kostümführung
CATEGORIES:Historische Führung
CATEGORIES:Themenführung
DESCRIPTION:Im Lüneburg des Jahres 1412\, kurz vor Beginn des ersten Treffe
 ns der Hansestädte in der Salzstadt\, berichtet Fuhrmann Johann aus seinem
  früheren Leben als Salzfahrer\, von der Holzversorgung der Saline und dem
  Wandel des Transportwesens mit dem Bau der Stecknitzfahrt.\n\nmehr Inform
 ationen unter http://pages.destination.one/de/lueneburg/streaming/detail/E
 vent/e_101208509/johann-der-fuhrmann
DTEND;TZID=Europe/Berlin:20260703T183000
DTSTAMP:20260422T083916Z
DTSTART;TZID=Europe/Berlin:20260703T170000
GEO:53.250108;10.407422
LOCATION:Tourist-Information Lüneburg\, Rathaus/Am Markt\, Lüneburg
ORGANIZER;CN=Lüneburg Marketing GmbH:mailto:touristik@lueneburg.info
SEQUENCE:0
SUMMARY:Johann\, der Fuhrmann
UID:e_101208509_iv5
URL:http://pages.destination.one/de/lueneburg/streaming/detail/Event/e_1012
 08509/johann-der-fuhrmann
END:VEVENT
BEGIN:VEVENT
CATEGORIES:... zu Fuß
CATEGORIES:Kostümführung
CATEGORIES:Historische Führung
CATEGORIES:Themenführung
DESCRIPTION:Im Lüneburg des Jahres 1412\, kurz vor Beginn des ersten Treffe
 ns der Hansestädte in der Salzstadt\, berichtet Fuhrmann Johann aus seinem
  früheren Leben als Salzfahrer\, von der Holzversorgung der Saline und dem
  Wandel des Transportwesens mit dem Bau der Stecknitzfahrt.\n\nmehr Inform
 ationen unter http://pages.destination.one/de/lueneburg/streaming/detail/E
 vent/e_101208509/johann-der-fuhrmann
DTEND;TZID=Europe/Berlin:20260704T183000
DTSTAMP:20260422T083916Z
DTSTART;TZID=Europe/Berlin:20260704T170000
GEO:53.250108;10.407422
LOCATION:Tourist-Information Lüneburg\, Rathaus/Am Markt\, Lüneburg
ORGANIZER;CN=Lüneburg Marketing GmbH:mailto:touristik@lueneburg.info
SEQUENCE:0
SUMMARY:Johann\, der Fuhrmann
UID:e_101208509_iv6
URL:http://pages.destination.one/de/lueneburg/streaming/detail/Event/e_1012
 08509/johann-der-fuhrmann
END:VEVENT
BEGIN:VEVENT
CATEGORIES:... zu Fuß
CATEGORIES:Kostümführung
CATEGORIES:Historische Führung
CATEGORIES:Themenführung
DESCRIPTION:Im Lüneburg des Jahres 1412\, kurz vor Beginn des ersten Treffe
 ns der Hansestädte in der Salzstadt\, berichtet Fuhrmann Johann aus seinem
  früheren Leben als Salzfahrer\, von der Holzversorgung der Saline und dem
  Wandel des Transportwesens mit dem Bau der Stecknitzfahrt.\n\nmehr Inform
 ationen unter http://pages.destination.one/de/lueneburg/streaming/detail/E
 vent/e_101208509/johann-der-fuhrmann
DTEND;TZID=Europe/Berlin:20260718T183000
DTSTAMP:20260422T083916Z
DTSTART;TZID=Europe/Berlin:20260718T170000
GEO:53.250108;10.407422
LOCATION:Tourist-Information Lüneburg\, Rathaus/Am Markt\, Lüneburg
ORGANIZER;CN=Lüneburg Marketing GmbH:mailto:touristik@lueneburg.info
SEQUENCE:0
SUMMARY:Johann\, der Fuhrmann
UID:e_101208509_iv7
URL:http://pages.destination.one/de/lueneburg/streaming/detail/Event/e_1012
 08509/johann-der-fuhrmann
END:VEVENT
BEGIN:VEVENT
CATEGORIES:... zu Fuß
CATEGORIES:Kostümführung
CATEGORIES:Historische Führung
CATEGORIES:Themenführung
DESCRIPTION:Im Lüneburg des Jahres 1412\, kurz vor Beginn des ersten Treffe
 ns der Hansestädte in der Salzstadt\, berichtet Fuhrmann Johann aus seinem
  früheren Leben als Salzfahrer\, von der Holzversorgung der Saline und dem
  Wandel des Transportwesens mit dem Bau der Stecknitzfahrt.\n\nmehr Inform
 ationen unter http://pages.destination.one/de/lueneburg/streaming/detail/E
 vent/e_101208509/johann-der-fuhrmann
DTEND;TZID=Europe/Berlin:20260801T183000
DTSTAMP:20260422T083916Z
DTSTART;TZID=Europe/Berlin:20260801T170000
GEO:53.250108;10.407422
LOCATION:Tourist-Information Lüneburg\, Rathaus/Am Markt\, Lüneburg
ORGANIZER;CN=Lüneburg Marketing GmbH:mailto:touristik@lueneburg.info
SEQUENCE:0
SUMMARY:Johann\, der Fuhrmann
UID:e_101208509_iv8
URL:http://pages.destination.one/de/lueneburg/streaming/detail/Event/e_1012
 08509/johann-der-fuhrmann
END:VEVENT
BEGIN:VEVENT
CATEGORIES:... zu Fuß
CATEGORIES:Kostümführung
CATEGORIES:Historische Führung
CATEGORIES:Themenführung
DESCRIPTION:Im Lüneburg des Jahres 1412\, kurz vor Beginn des ersten Treffe
 ns der Hansestädte in der Salzstadt\, berichtet Fuhrmann Johann aus seinem
  früheren Leben als Salzfahrer\, von der Holzversorgung der Saline und dem
  Wandel des Transportwesens mit dem Bau der Stecknitzfahrt.\n\nmehr Inform
 ationen unter http://pages.destination.one/de/lueneburg/streaming/detail/E
 vent/e_101208509/johann-der-fuhrmann
DTEND;TZID=Europe/Berlin:20260815T183000
DTSTAMP:20260422T083916Z
DTSTART;TZID=Europe/Berlin:20260815T170000
GEO:53.250108;10.407422
LOCATION:Tourist-Information Lüneburg\, Rathaus/Am Markt\, Lüneburg
ORGANIZER;CN=Lüneburg Marketing GmbH:mailto:touristik@lueneburg.info
SEQUENCE:0
SUMMARY:Johann\, der Fuhrmann
UID:e_101208509_iv9
URL:http://pages.destination.one/de/lueneburg/streaming/detail/Event/e_1012
 08509/johann-der-fuhrmann
END:VEVENT
BEGIN:VEVENT
CATEGORIES:... zu Fuß
CATEGORIES:Kostümführung
CATEGORIES:Historische Führung
CATEGORIES:Themenführung
DESCRIPTION:Im Lüneburg des Jahres 1412\, kurz vor Beginn des ersten Treffe
 ns der Hansestädte in der Salzstadt\, berichtet Fuhrmann Johann aus seinem
  früheren Leben als Salzfahrer\, von der Holzversorgung der Saline und dem
  Wandel des Transportwesens mit dem Bau der Stecknitzfahrt.\n\nmehr Inform
 ationen unter http://pages.destination.one/de/lueneburg/streaming/detail/E
 vent/e_101208509/johann-der-fuhrmann
DTEND;TZID=Europe/Berlin:20260911T183000
DTSTAMP:20260422T083916Z
DTSTART;TZID=Europe/Berlin:20260911T170000
GEO:53.250108;10.407422
LOCATION:Tourist-Information Lüneburg\, Rathaus/Am Markt\, Lüneburg
ORGANIZER;CN=Lüneburg Marketing GmbH:mailto:touristik@lueneburg.info
SEQUENCE:0
SUMMARY:Johann\, der Fuhrmann
UID:e_101208509_iv10
URL:http://pages.destination.one/de/lueneburg/streaming/detail/Event/e_1012
 08509/johann-der-fuhrmann
END:VEVENT
BEGIN:VEVENT
CATEGORIES:... zu Fuß
CATEGORIES:Kostümführung
CATEGORIES:Historische Führung
CATEGORIES:Themenführung
DESCRIPTION:Im Lüneburg des Jahres 1412\, kurz vor Beginn des ersten Treffe
 ns der Hansestädte in der Salzstadt\, berichtet Fuhrmann Johann aus seinem
  früheren Leben als Salzfahrer\, von der Holzversorgung der Saline und dem
  Wandel des Transportwesens mit dem Bau der Stecknitzfahrt.\n\nmehr Inform
 ationen unter http://pages.destination.one/de/lueneburg/streaming/detail/E
 vent/e_101208509/johann-der-fuhrmann
DTEND;TZID=Europe/Berlin:20260918T183000
DTSTAMP:20260422T083916Z
DTSTART;TZID=Europe/Berlin:20260918T170000
GEO:53.250108;10.407422
LOCATION:Tourist-Information Lüneburg\, Rathaus/Am Markt\, Lüneburg
ORGANIZER;CN=Lüneburg Marketing GmbH:mailto:touristik@lueneburg.info
SEQUENCE:0
SUMMARY:Johann\, der Fuhrmann
UID:e_101208509_iv11
URL:http://pages.destination.one/de/lueneburg/streaming/detail/Event/e_1012
 08509/johann-der-fuhrmann
END:VEVENT
BEGIN:VTIMEZONE
TZID:Europe/Berlin
X-LIC-LOCATION:Europe/Berlin
BEGIN:DAYLIGHT
DTSTART:19700329T020000
RRULE:FREQ=YEARLY;BYDAY=-1SU;BYMONTH=3
TZNAME:CEST
TZOFFSETFROM:+0100
TZOFFSETTO:+0200
END:DAYLIGHT
BEGIN:STANDARD
DTSTART:19701025T030000
RRULE:FREQ=YEARLY;BYDAY=-1SU;BYMONTH=10
TZNAME:CET
TZOFFSETFROM:+0200
TZOFFSETTO:+0100
END:STANDARD
END:VTIMEZONE
END:VCALENDAR
