BEGIN:VCALENDAR
VERSION:2.0
PRODID:-//destination.one//NONSGML destination.meta API//DE
X-WR-CALDESC:A calendar powered by destination.meta
X-WR-CALNAME:lueneburg Kalender via destination.meta
BEGIN:VEVENT
CATEGORIES:... zu Fuß
CATEGORIES:Kostümführung
CATEGORIES:Historische Führung
CATEGORIES:Themenführung
DESCRIPTION:Verbringen Sie eine vergnügliche Zeit mit den drei Plaudertasch
 en Ida\, Johanna und Trude.\n\nmehr Informationen unter http://pages.desti
 nation.one/de/lueneburg/streaming/detail/Event/e_101208556/l-neburger-kl-n
 schnack
DTEND;TZID=Europe/Berlin:20260308T160000
DTSTAMP:20260421T083959Z
DTSTART;TZID=Europe/Berlin:20260308T143000
GEO:53.250108;10.407422
LOCATION:Tourist-Information Lüneburg\, Rathaus/Am Markt\, Lüneburg
ORGANIZER;CN=Lüneburg Marketing GmbH:mailto:touristik@lueneburg.info
SEQUENCE:0
SUMMARY:Lüneburger Klönschnack
UID:e_101208556_iv0
URL:http://pages.destination.one/de/lueneburg/streaming/detail/Event/e_1012
 08556/l-neburger-kl-nschnack
END:VEVENT
BEGIN:VEVENT
CATEGORIES:... zu Fuß
CATEGORIES:Kostümführung
CATEGORIES:Historische Führung
CATEGORIES:Themenführung
DESCRIPTION:Verbringen Sie eine vergnügliche Zeit mit den drei Plaudertasch
 en Ida\, Johanna und Trude.\n\nmehr Informationen unter http://pages.desti
 nation.one/de/lueneburg/streaming/detail/Event/e_101208556/l-neburger-kl-n
 schnack
DTEND;TZID=Europe/Berlin:20260410T193000
DTSTAMP:20260421T083959Z
DTSTART;TZID=Europe/Berlin:20260410T180000
GEO:53.250108;10.407422
LOCATION:Tourist-Information Lüneburg\, Rathaus/Am Markt\, Lüneburg
ORGANIZER;CN=Lüneburg Marketing GmbH:mailto:touristik@lueneburg.info
SEQUENCE:0
SUMMARY:Lüneburger Klönschnack
UID:e_101208556_iv1
URL:http://pages.destination.one/de/lueneburg/streaming/detail/Event/e_1012
 08556/l-neburger-kl-nschnack
END:VEVENT
BEGIN:VEVENT
CATEGORIES:... zu Fuß
CATEGORIES:Kostümführung
CATEGORIES:Historische Führung
CATEGORIES:Themenführung
DESCRIPTION:Verbringen Sie eine vergnügliche Zeit mit den drei Plaudertasch
 en Ida\, Johanna und Trude.\n\nmehr Informationen unter http://pages.desti
 nation.one/de/lueneburg/streaming/detail/Event/e_101208556/l-neburger-kl-n
 schnack
DTEND;TZID=Europe/Berlin:20260508T193000
DTSTAMP:20260421T083959Z
DTSTART;TZID=Europe/Berlin:20260508T180000
GEO:53.250108;10.407422
LOCATION:Tourist-Information Lüneburg\, Rathaus/Am Markt\, Lüneburg
ORGANIZER;CN=Lüneburg Marketing GmbH:mailto:touristik@lueneburg.info
SEQUENCE:0
SUMMARY:Lüneburger Klönschnack
UID:e_101208556_iv2
URL:http://pages.destination.one/de/lueneburg/streaming/detail/Event/e_1012
 08556/l-neburger-kl-nschnack
END:VEVENT
BEGIN:VEVENT
CATEGORIES:... zu Fuß
CATEGORIES:Kostümführung
CATEGORIES:Historische Führung
CATEGORIES:Themenführung
DESCRIPTION:Verbringen Sie eine vergnügliche Zeit mit den drei Plaudertasch
 en Ida\, Johanna und Trude.\n\nmehr Informationen unter http://pages.desti
 nation.one/de/lueneburg/streaming/detail/Event/e_101208556/l-neburger-kl-n
 schnack
DTEND;TZID=Europe/Berlin:20260522T193000
DTSTAMP:20260421T083959Z
DTSTART;TZID=Europe/Berlin:20260522T180000
GEO:53.250108;10.407422
LOCATION:Tourist-Information Lüneburg\, Rathaus/Am Markt\, Lüneburg
ORGANIZER;CN=Lüneburg Marketing GmbH:mailto:touristik@lueneburg.info
SEQUENCE:0
SUMMARY:Lüneburger Klönschnack
UID:e_101208556_iv3
URL:http://pages.destination.one/de/lueneburg/streaming/detail/Event/e_1012
 08556/l-neburger-kl-nschnack
END:VEVENT
BEGIN:VEVENT
CATEGORIES:... zu Fuß
CATEGORIES:Kostümführung
CATEGORIES:Historische Führung
CATEGORIES:Themenführung
DESCRIPTION:Verbringen Sie eine vergnügliche Zeit mit den drei Plaudertasch
 en Ida\, Johanna und Trude.\n\nmehr Informationen unter http://pages.desti
 nation.one/de/lueneburg/streaming/detail/Event/e_101208556/l-neburger-kl-n
 schnack
DTEND;TZID=Europe/Berlin:20260619T193000
DTSTAMP:20260421T083959Z
DTSTART;TZID=Europe/Berlin:20260619T180000
GEO:53.250108;10.407422
LOCATION:Tourist-Information Lüneburg\, Rathaus/Am Markt\, Lüneburg
ORGANIZER;CN=Lüneburg Marketing GmbH:mailto:touristik@lueneburg.info
SEQUENCE:0
SUMMARY:Lüneburger Klönschnack
UID:e_101208556_iv4
URL:http://pages.destination.one/de/lueneburg/streaming/detail/Event/e_1012
 08556/l-neburger-kl-nschnack
END:VEVENT
BEGIN:VEVENT
CATEGORIES:... zu Fuß
CATEGORIES:Kostümführung
CATEGORIES:Historische Führung
CATEGORIES:Themenführung
DESCRIPTION:Verbringen Sie eine vergnügliche Zeit mit den drei Plaudertasch
 en Ida\, Johanna und Trude.\n\nmehr Informationen unter http://pages.desti
 nation.one/de/lueneburg/streaming/detail/Event/e_101208556/l-neburger-kl-n
 schnack
DTEND;TZID=Europe/Berlin:20260717T193000
DTSTAMP:20260421T083959Z
DTSTART;TZID=Europe/Berlin:20260717T180000
GEO:53.250108;10.407422
LOCATION:Tourist-Information Lüneburg\, Rathaus/Am Markt\, Lüneburg
ORGANIZER;CN=Lüneburg Marketing GmbH:mailto:touristik@lueneburg.info
SEQUENCE:0
SUMMARY:Lüneburger Klönschnack
UID:e_101208556_iv5
URL:http://pages.destination.one/de/lueneburg/streaming/detail/Event/e_1012
 08556/l-neburger-kl-nschnack
END:VEVENT
BEGIN:VEVENT
CATEGORIES:... zu Fuß
CATEGORIES:Kostümführung
CATEGORIES:Historische Führung
CATEGORIES:Themenführung
DESCRIPTION:Verbringen Sie eine vergnügliche Zeit mit den drei Plaudertasch
 en Ida\, Johanna und Trude.\n\nmehr Informationen unter http://pages.desti
 nation.one/de/lueneburg/streaming/detail/Event/e_101208556/l-neburger-kl-n
 schnack
DTEND;TZID=Europe/Berlin:20260731T193000
DTSTAMP:20260421T083959Z
DTSTART;TZID=Europe/Berlin:20260731T180000
GEO:53.250108;10.407422
LOCATION:Tourist-Information Lüneburg\, Rathaus/Am Markt\, Lüneburg
ORGANIZER;CN=Lüneburg Marketing GmbH:mailto:touristik@lueneburg.info
SEQUENCE:0
SUMMARY:Lüneburger Klönschnack
UID:e_101208556_iv6
URL:http://pages.destination.one/de/lueneburg/streaming/detail/Event/e_1012
 08556/l-neburger-kl-nschnack
END:VEVENT
BEGIN:VEVENT
CATEGORIES:... zu Fuß
CATEGORIES:Kostümführung
CATEGORIES:Historische Führung
CATEGORIES:Themenführung
DESCRIPTION:Verbringen Sie eine vergnügliche Zeit mit den drei Plaudertasch
 en Ida\, Johanna und Trude.\n\nmehr Informationen unter http://pages.desti
 nation.one/de/lueneburg/streaming/detail/Event/e_101208556/l-neburger-kl-n
 schnack
DTEND;TZID=Europe/Berlin:20260821T193000
DTSTAMP:20260421T083959Z
DTSTART;TZID=Europe/Berlin:20260821T180000
GEO:53.250108;10.407422
LOCATION:Tourist-Information Lüneburg\, Rathaus/Am Markt\, Lüneburg
ORGANIZER;CN=Lüneburg Marketing GmbH:mailto:touristik@lueneburg.info
SEQUENCE:0
SUMMARY:Lüneburger Klönschnack
UID:e_101208556_iv7
URL:http://pages.destination.one/de/lueneburg/streaming/detail/Event/e_1012
 08556/l-neburger-kl-nschnack
END:VEVENT
BEGIN:VEVENT
CATEGORIES:... zu Fuß
CATEGORIES:Kostümführung
CATEGORIES:Historische Führung
CATEGORIES:Themenführung
DESCRIPTION:Verbringen Sie eine vergnügliche Zeit mit den drei Plaudertasch
 en Ida\, Johanna und Trude.\n\nmehr Informationen unter http://pages.desti
 nation.one/de/lueneburg/streaming/detail/Event/e_101208556/l-neburger-kl-n
 schnack
DTEND;TZID=Europe/Berlin:20260828T193000
DTSTAMP:20260421T083959Z
DTSTART;TZID=Europe/Berlin:20260828T180000
GEO:53.250108;10.407422
LOCATION:Tourist-Information Lüneburg\, Rathaus/Am Markt\, Lüneburg
ORGANIZER;CN=Lüneburg Marketing GmbH:mailto:touristik@lueneburg.info
SEQUENCE:0
SUMMARY:Lüneburger Klönschnack
UID:e_101208556_iv8
URL:http://pages.destination.one/de/lueneburg/streaming/detail/Event/e_1012
 08556/l-neburger-kl-nschnack
END:VEVENT
BEGIN:VEVENT
CATEGORIES:... zu Fuß
CATEGORIES:Kostümführung
CATEGORIES:Historische Führung
CATEGORIES:Themenführung
DESCRIPTION:Verbringen Sie eine vergnügliche Zeit mit den drei Plaudertasch
 en Ida\, Johanna und Trude.\n\nmehr Informationen unter http://pages.desti
 nation.one/de/lueneburg/streaming/detail/Event/e_101208556/l-neburger-kl-n
 schnack
DTEND;TZID=Europe/Berlin:20261009T193000
DTSTAMP:20260421T083959Z
DTSTART;TZID=Europe/Berlin:20261009T180000
GEO:53.250108;10.407422
LOCATION:Tourist-Information Lüneburg\, Rathaus/Am Markt\, Lüneburg
ORGANIZER;CN=Lüneburg Marketing GmbH:mailto:touristik@lueneburg.info
SEQUENCE:0
SUMMARY:Lüneburger Klönschnack
UID:e_101208556_iv9
URL:http://pages.destination.one/de/lueneburg/streaming/detail/Event/e_1012
 08556/l-neburger-kl-nschnack
END:VEVENT
BEGIN:VTIMEZONE
TZID:Europe/Berlin
X-LIC-LOCATION:Europe/Berlin
BEGIN:DAYLIGHT
DTSTART:19700329T020000
RRULE:FREQ=YEARLY;BYDAY=-1SU;BYMONTH=3
TZNAME:CEST
TZOFFSETFROM:+0100
TZOFFSETTO:+0200
END:DAYLIGHT
BEGIN:STANDARD
DTSTART:19701025T030000
RRULE:FREQ=YEARLY;BYDAY=-1SU;BYMONTH=10
TZNAME:CET
TZOFFSETFROM:+0200
TZOFFSETTO:+0100
END:STANDARD
END:VTIMEZONE
END:VCALENDAR
