BEGIN:VCALENDAR
VERSION:2.0
PRODID:-//destination.one//NONSGML destination.meta API//DE
X-WR-CALDESC:A calendar powered by destination.meta
X-WR-CALNAME:lueneburg Kalender via destination.meta
BEGIN:VEVENT
CATEGORIES:Adventsmarkt
CATEGORIES:Foodmarket
CATEGORIES:Kulinarik sonstige
CATEGORIES:Naturerlebnis
CATEGORIES:Weihnachtsmarkt
DESCRIPTION:Kränze & Naturmaterialien für Deine Weihnachtsdeko\n\nmehr Info
 rmationen unter http://pages.destination.one/de/lueneburg/streaming/detail
 /Event/e_101215128/hof-an-den-teichen-advents-markt
DTEND;TZID=Europe/Berlin:20261122T180000
DTSTAMP:20260421T081350Z
DTSTART;TZID=Europe/Berlin:20261122T120000
GEO:53.213758;10.360192
LOCATION:Hof an den Teichen\, Heiligenthaler Straße 1\, Lüneburg
ORGANIZER;CN=Hof an den Teichen:mailto:info@hofandenteichen.de
SEQUENCE:0
SUMMARY:Hof an den Teichen\, Advents-Markt
UID:e_101215128_iv0
URL:http://pages.destination.one/de/lueneburg/streaming/detail/Event/e_1012
 15128/hof-an-den-teichen-advents-markt
END:VEVENT
BEGIN:VTIMEZONE
TZID:Europe/Berlin
X-LIC-LOCATION:Europe/Berlin
BEGIN:DAYLIGHT
DTSTART:19700329T020000
RRULE:FREQ=YEARLY;BYDAY=-1SU;BYMONTH=3
TZNAME:CEST
TZOFFSETFROM:+0100
TZOFFSETTO:+0200
END:DAYLIGHT
BEGIN:STANDARD
DTSTART:19701025T030000
RRULE:FREQ=YEARLY;BYDAY=-1SU;BYMONTH=10
TZNAME:CET
TZOFFSETFROM:+0200
TZOFFSETTO:+0100
END:STANDARD
END:VTIMEZONE
END:VCALENDAR
