BEGIN:VCALENDAR
VERSION:2.0
PRODID:-//destination.one//NONSGML destination.meta API//DE
X-WR-CALDESC:A calendar powered by destination.meta
X-WR-CALNAME:lueneburg Kalender via destination.meta
BEGIN:VEVENT
CATEGORIES:Ausstellung
DESCRIPTION:Gisela Petersen - Aquarelle\nJoachim Petersen -  analoge Fotogr
 afie\n\nMan könnte auch sagen: Imagination begegnet selektiver Wirklichkei
 t.\n\nSo sind die ausgestellten Aquarelle ausschließlich der inneren Vorst
 ellung entsprungen. Es handelt sich dabei zum einen um Land-\, Wasser- und
  Wolkenformationen\, also um Natur\, wie sie die Malerin irgendwann bereit
 s einmal erlebt und nun in einer erinnernden Neuschöpfung zum Ausdruck geb
 racht hat. Eine zweite Kategorie umfasst nichtgegenständliche Formungen\, 
 die aus geometrischen und/oder floralen Elementen gebildet sind.\n\nmehr I
 nformationen unter http://pages.destination.one/de/lueneburg/streaming/det
 ail/Event/e_101218818/farbe-begegnet-schwarzweiss
DTEND;TZID=Europe/Berlin:20260226T120000
DTSTAMP:20260421T081253Z
DTSTART;TZID=Europe/Berlin:20260226T080000
GEO:53.300913;10.390102
LOCATION:Rathaus der Samtgemeinde Bardowick\, Schulstr. 12\, Bardowick
ORGANIZER;CN=Gisela Petersen :mailto:info@giselapetersen.de
RRULE:FREQ=WEEKLY;UNTIL=20260626T100000;BYDAY=MO,TU,TH,FR
SEQUENCE:0
SUMMARY:Farbe begegnet Schwarzweiss
UID:e_101218818_iv0
URL:http://pages.destination.one/de/lueneburg/streaming/detail/Event/e_1012
 18818/farbe-begegnet-schwarzweiss
END:VEVENT
BEGIN:VEVENT
CATEGORIES:Ausstellung
DESCRIPTION:Gisela Petersen - Aquarelle\nJoachim Petersen -  analoge Fotogr
 afie\n\nMan könnte auch sagen: Imagination begegnet selektiver Wirklichkei
 t.\n\nSo sind die ausgestellten Aquarelle ausschließlich der inneren Vorst
 ellung entsprungen. Es handelt sich dabei zum einen um Land-\, Wasser- und
  Wolkenformationen\, also um Natur\, wie sie die Malerin irgendwann bereit
 s einmal erlebt und nun in einer erinnernden Neuschöpfung zum Ausdruck geb
 racht hat. Eine zweite Kategorie umfasst nichtgegenständliche Formungen\, 
 die aus geometrischen und/oder floralen Elementen gebildet sind.\n\nmehr I
 nformationen unter http://pages.destination.one/de/lueneburg/streaming/det
 ail/Event/e_101218818/farbe-begegnet-schwarzweiss
DTEND;TZID=Europe/Berlin:20260226T183000
DTSTAMP:20260421T081253Z
DTSTART;TZID=Europe/Berlin:20260226T150000
GEO:53.300913;10.390102
LOCATION:Rathaus der Samtgemeinde Bardowick\, Schulstr. 12\, Bardowick
ORGANIZER;CN=Gisela Petersen :mailto:info@giselapetersen.de
RRULE:FREQ=WEEKLY;UNTIL=20260625T163000;BYDAY=TH
SEQUENCE:0
SUMMARY:Farbe begegnet Schwarzweiss
UID:e_101218818_iv1
URL:http://pages.destination.one/de/lueneburg/streaming/detail/Event/e_1012
 18818/farbe-begegnet-schwarzweiss
END:VEVENT
BEGIN:VTIMEZONE
TZID:Europe/Berlin
X-LIC-LOCATION:Europe/Berlin
BEGIN:DAYLIGHT
DTSTART:19700329T020000
RRULE:FREQ=YEARLY;BYDAY=-1SU;BYMONTH=3
TZNAME:CEST
TZOFFSETFROM:+0100
TZOFFSETTO:+0200
END:DAYLIGHT
BEGIN:STANDARD
DTSTART:19701025T030000
RRULE:FREQ=YEARLY;BYDAY=-1SU;BYMONTH=10
TZNAME:CET
TZOFFSETFROM:+0200
TZOFFSETTO:+0100
END:STANDARD
END:VTIMEZONE
END:VCALENDAR
