BEGIN:VCALENDAR
VERSION:2.0
PRODID:-//destination.one//NONSGML destination.meta API//DE
X-WR-CALDESC:A calendar powered by destination.meta
X-WR-CALNAME:lueneburg Kalender via destination.meta
BEGIN:VEVENT
CATEGORIES:Konzert
DESCRIPTION:Backwater Collage ist das erste Soloalbum von James Hoare\, das
  er unter dem Namen Penny Arcade veröffentlicht. Dem ein oder anderen wird
  er als Musiker/Songwriter bei Bands wie Veronica Falls\, The Proper Ornam
 ents oder Ultimate Painting bereits über den Weg gelaufen sein.\n\nmehr In
 formationen unter http://pages.destination.one/de/lueneburg/streaming/deta
 il/Event/e_101219125/penny-arcade
DTEND;TZID=Europe/Berlin:20260513T230000
DTSTAMP:20260421T081132Z
DTSTART;TZID=Europe/Berlin:20260513T200000
GEO:53.248268;10.411186
LOCATION:Samowar Tea & Records\, Am Sande 33\, Lüneburg
ORGANIZER;CN=Samowar Tea & Records:mailto:sabbelbiene@yahoo.de
SEQUENCE:0
SUMMARY:Penny Arcade
UID:e_101219125_iv0
URL:http://pages.destination.one/de/lueneburg/streaming/detail/Event/e_1012
 19125/penny-arcade
END:VEVENT
BEGIN:VTIMEZONE
TZID:Europe/Berlin
X-LIC-LOCATION:Europe/Berlin
BEGIN:DAYLIGHT
DTSTART:19700329T020000
RRULE:FREQ=YEARLY;BYDAY=-1SU;BYMONTH=3
TZNAME:CEST
TZOFFSETFROM:+0100
TZOFFSETTO:+0200
END:DAYLIGHT
BEGIN:STANDARD
DTSTART:19701025T030000
RRULE:FREQ=YEARLY;BYDAY=-1SU;BYMONTH=10
TZNAME:CET
TZOFFSETFROM:+0200
TZOFFSETTO:+0100
END:STANDARD
END:VTIMEZONE
END:VCALENDAR
