BEGIN:VCALENDAR
VERSION:2.0
PRODID:-//destination.one//NONSGML destination.meta API//DE
X-WR-CALDESC:A calendar powered by destination.meta
X-WR-CALNAME:lueneburg Kalender via destination.meta
BEGIN:VEVENT
CATEGORIES:Konzert
DESCRIPTION:\n\nmehr Informationen unter http://pages.destination.one/de/lu
 eneburg/streaming/detail/Event/e_101219621/vollmonkonzert-daniel-gebauer-s
 olo
DTEND;TZID=Europe/Berlin:20260501T220000
DTSTAMP:20260421T081140Z
DTSTART;TZID=Europe/Berlin:20260501T200000
GEO:53.246715;10.412952
LOCATION:Wasserturm Lüneburg\, Am Wasserturm 1\, Lüneburg
ORGANIZER;CN=Wasserturm Lüneburg:mailto:info@wasserturm.net
SEQUENCE:0
SUMMARY:Vollmonkonzert - Daniel Gebauer Solo
UID:e_101219621_iv0
URL:http://pages.destination.one/de/lueneburg/streaming/detail/Event/e_1012
 19621/vollmonkonzert-daniel-gebauer-solo
END:VEVENT
BEGIN:VTIMEZONE
TZID:Europe/Berlin
X-LIC-LOCATION:Europe/Berlin
BEGIN:DAYLIGHT
DTSTART:19700329T020000
RRULE:FREQ=YEARLY;BYDAY=-1SU;BYMONTH=3
TZNAME:CEST
TZOFFSETFROM:+0100
TZOFFSETTO:+0200
END:DAYLIGHT
BEGIN:STANDARD
DTSTART:19701025T030000
RRULE:FREQ=YEARLY;BYDAY=-1SU;BYMONTH=10
TZNAME:CET
TZOFFSETFROM:+0200
TZOFFSETTO:+0100
END:STANDARD
END:VTIMEZONE
END:VCALENDAR
