BEGIN:VCALENDAR
VERSION:2.0
PRODID:-//destination.one//NONSGML destination.meta API//DE
X-WR-CALDESC:A calendar powered by destination.meta
X-WR-CALNAME:lueneburg Kalender via destination.meta
BEGIN:VEVENT
CATEGORIES:Konzert
DESCRIPTION:\n\nmehr Informationen unter http://pages.destination.one/de/lu
 eneburg/streaming/detail/Event/e_101220139/sonderkonzert-aves-de-paso-migu
 el-wolf-und-hendrik-le-mann
DTEND;TZID=Europe/Berlin:20260417T220000
DTSTAMP:20260420T135955Z
DTSTART;TZID=Europe/Berlin:20260417T200000
GEO:53.246715;10.412952
LOCATION:Wasserturm Lüneburg\, Am Wasserturm 1\, Lüneburg
ORGANIZER;CN=Wasserturm Lüneburg:mailto:info@wasserturm.net
SEQUENCE:0
SUMMARY:Sonderkonzert  - Aves de Paso - Miguel Wolf und Hendrik Leßmann
UID:e_101220139_iv0
URL:http://pages.destination.one/de/lueneburg/streaming/detail/Event/e_1012
 20139/sonderkonzert-aves-de-paso-miguel-wolf-und-hendrik-le-mann
END:VEVENT
BEGIN:VTIMEZONE
TZID:Europe/Berlin
X-LIC-LOCATION:Europe/Berlin
BEGIN:DAYLIGHT
DTSTART:19700329T020000
RRULE:FREQ=YEARLY;BYDAY=-1SU;BYMONTH=3
TZNAME:CEST
TZOFFSETFROM:+0100
TZOFFSETTO:+0200
END:DAYLIGHT
BEGIN:STANDARD
DTSTART:19701025T030000
RRULE:FREQ=YEARLY;BYDAY=-1SU;BYMONTH=10
TZNAME:CET
TZOFFSETFROM:+0200
TZOFFSETTO:+0100
END:STANDARD
END:VTIMEZONE
END:VCALENDAR
