BEGIN:VCALENDAR
VERSION:2.0
PRODID:-//destination.one//NONSGML destination.meta API//DE
X-WR-CALDESC:A calendar powered by destination.meta
X-WR-CALNAME:lueneburg Kalender via destination.meta
BEGIN:VEVENT
CATEGORIES:Musik sonstige
CATEGORIES:Tanz sonstige
DESCRIPTION:Tanz in den Mai in der Festscheune im Heide Hotel Reinstorf\n\n
 mehr Informationen unter http://pages.destination.one/de/lueneburg/streami
 ng/detail/Event/e_101250602/tanz-in-den-mai-mit-den-soeties
DTEND;TZID=Europe/Berlin:20260501T020000
DTSTAMP:20260423T093745Z
DTSTART;TZID=Europe/Berlin:20260430T180000
GEO:53.233988;10.573357
LOCATION:Festscheune Heide Hotel Reinstorf\, Alte Schulstraße 6\, Reinstorf
ORGANIZER;CN=Heide Hotel Reinstorf:mailto:info@heide-hotel-reinstorf.de
SEQUENCE:0
SUMMARY:Tanz in den Mai mit den Soeties
UID:e_101250602_iv0
URL:http://pages.destination.one/de/lueneburg/streaming/detail/Event/e_1012
 50602/tanz-in-den-mai-mit-den-soeties
END:VEVENT
BEGIN:VTIMEZONE
TZID:Europe/Berlin
X-LIC-LOCATION:Europe/Berlin
BEGIN:DAYLIGHT
DTSTART:19700329T020000
RRULE:FREQ=YEARLY;BYDAY=-1SU;BYMONTH=3
TZNAME:CEST
TZOFFSETFROM:+0100
TZOFFSETTO:+0200
END:DAYLIGHT
BEGIN:STANDARD
DTSTART:19701025T030000
RRULE:FREQ=YEARLY;BYDAY=-1SU;BYMONTH=10
TZNAME:CET
TZOFFSETFROM:+0200
TZOFFSETTO:+0100
END:STANDARD
END:VTIMEZONE
END:VCALENDAR
