BEGIN:VCALENDAR
VERSION:2.0
PRODID:-//destination.one//NONSGML destination.meta API//DE
X-WR-CALDESC:A calendar powered by destination.meta
X-WR-CALNAME:lueneburg Kalender via destination.meta
BEGIN:VEVENT
CATEGORIES:Themenführung
DESCRIPTION:An jedem Sonntag lädt das Museum Lüneburg zur Sonntagsgeschicht
 e ein. Diese Führung stellt besondere Themen aus den Bereichen Kulturgesch
 ichte\, Naturkunde und Archäologie in den Fokus. So können Sie das Museum 
 an jedem Sonntag neu entdecken!\n\nmehr Informationen unter http://pages.d
 estination.one/de/lueneburg/streaming/detail/Event/e_101251171/f-hrung-dur
 ch-die-ausstellung-gl-ck-inklusive
DTEND;TZID=Europe/Berlin:20260426T160000
DTSTAMP:20260423T083213Z
DTSTART;TZID=Europe/Berlin:20260426T150000
GEO:53.246812;10.415779
LOCATION:Museum Lüneburg\, Willy-Brandt-Strasse 1\, Lüneburg
ORGANIZER;CN=Museum Lüneburg:mailto:buchungen@museumlueneburg.de
SEQUENCE:0
SUMMARY:Führung durch die Ausstellung "Glück inklusive"
UID:e_101251171_iv0
URL:http://pages.destination.one/de/lueneburg/streaming/detail/Event/e_1012
 51171/f-hrung-durch-die-ausstellung-gl-ck-inklusive
END:VEVENT
BEGIN:VTIMEZONE
TZID:Europe/Berlin
X-LIC-LOCATION:Europe/Berlin
BEGIN:DAYLIGHT
DTSTART:19700329T020000
RRULE:FREQ=YEARLY;BYDAY=-1SU;BYMONTH=3
TZNAME:CEST
TZOFFSETFROM:+0100
TZOFFSETTO:+0200
END:DAYLIGHT
BEGIN:STANDARD
DTSTART:19701025T030000
RRULE:FREQ=YEARLY;BYDAY=-1SU;BYMONTH=10
TZNAME:CET
TZOFFSETFROM:+0200
TZOFFSETTO:+0100
END:STANDARD
END:VTIMEZONE
END:VCALENDAR
