BEGIN:VCALENDAR
VERSION:2.0
PRODID:-//destination.one//NONSGML destination.meta API//DE
X-WR-CALDESC:A calendar powered by destination.meta
X-WR-CALNAME:lueneburg Kalender via destination.meta
BEGIN:VEVENT
CATEGORIES:Familien/Kinder sonstige
CATEGORIES:Museumstag
DESCRIPTION:Immer am 4. Sonntag im Monat gibt es im Museum Lüneburg ein wec
 hselndes Familienangebot zu den Themen Kultur\, Natur und Archäologie. Das
  Programm beinhaltet eine Kurzführung mit einer Mitmach-Aktion.\n\nEs wird
  gezeichnet\, gemalt\, gebastelt und gewerkelt\, was die Materialschränke 
 hergeben! Lesungen\, Puppentheater\, Schreibwerkstätten und andere Highlig
 hts ergänzen unsere Angebote für Kinder und Familien.\nBitte beachten Sie\
 , dass für die Aktion vorab eine Anmeldung per E-Mail oder Telefon erforde
 rlich ist:\nTelefon: 04131 72065-80E-Mail: buchungen@museumlueneburg.de.\n
 \nmehr Informationen unter http://pages.destination.one/de/lueneburg/strea
 ming/detail/Event/e_101251249/familien-aktion-mit-salz-malen
DTEND;TZID=Europe/Berlin:20260426T160000
DTSTAMP:20260423T094243Z
DTSTART;TZID=Europe/Berlin:20260426T143000
GEO:53.246812;10.415779
LOCATION:Museum Lüneburg\, Willy-Brandt-Strasse 1\, Lüneburg
ORGANIZER;CN=Museum Lüneburg:mailto:buchungen@museumlueneburg.de
SEQUENCE:0
SUMMARY:Familien-Aktion: Mit Salz malen
UID:e_101251249_iv0
URL:http://pages.destination.one/de/lueneburg/streaming/detail/Event/e_1012
 51249/familien-aktion-mit-salz-malen
END:VEVENT
BEGIN:VTIMEZONE
TZID:Europe/Berlin
X-LIC-LOCATION:Europe/Berlin
BEGIN:DAYLIGHT
DTSTART:19700329T020000
RRULE:FREQ=YEARLY;BYDAY=-1SU;BYMONTH=3
TZNAME:CEST
TZOFFSETFROM:+0100
TZOFFSETTO:+0200
END:DAYLIGHT
BEGIN:STANDARD
DTSTART:19701025T030000
RRULE:FREQ=YEARLY;BYDAY=-1SU;BYMONTH=10
TZNAME:CET
TZOFFSETFROM:+0200
TZOFFSETTO:+0100
END:STANDARD
END:VTIMEZONE
END:VCALENDAR
