BEGIN:VCALENDAR
VERSION:2.0
PRODID:-//destination.one//NONSGML destination.meta API//DE
X-WR-CALDESC:A calendar powered by destination.meta
X-WR-CALNAME:lueneburg Kalender via destination.meta
BEGIN:VEVENT
CATEGORIES:Konzert
DESCRIPTION:Konzert der Jazz IG LüneburgKatharina Maschmeyer (Tenorsaxophon
 ) - Nils Pollheide (Gitarre) - Dirk Schaadt (Hammond Orgel B3) - Hardy Fis
 chötter (Schlagzeug)\n\nmehr Informationen unter http://pages.destination.
 one/de/lueneburg/streaming/detail/Event/e_101251737/black-dog-groove-socie
 ty-katharina-maschmeyer-quartett
DTEND;TZID=Europe/Berlin:20260424T220000
DTSTAMP:20260421T103303Z
DTSTART;TZID=Europe/Berlin:20260424T200000
GEO:53.246812;10.415779
LOCATION:Museum Lüneburg\, Willy-Brandt-Strasse 1\, Lüneburg
ORGANIZER;CN=Museum Lüneburg:mailto:buchungen@museumlueneburg.de
SEQUENCE:0
SUMMARY:Black Dog Groove Society – Katharina Maschmeyer Quartett
UID:e_101251737_iv0
URL:http://pages.destination.one/de/lueneburg/streaming/detail/Event/e_1012
 51737/black-dog-groove-society-katharina-maschmeyer-quartett
END:VEVENT
BEGIN:VTIMEZONE
TZID:Europe/Berlin
X-LIC-LOCATION:Europe/Berlin
BEGIN:DAYLIGHT
DTSTART:19700329T020000
RRULE:FREQ=YEARLY;BYDAY=-1SU;BYMONTH=3
TZNAME:CEST
TZOFFSETFROM:+0100
TZOFFSETTO:+0200
END:DAYLIGHT
BEGIN:STANDARD
DTSTART:19701025T030000
RRULE:FREQ=YEARLY;BYDAY=-1SU;BYMONTH=10
TZNAME:CET
TZOFFSETFROM:+0200
TZOFFSETTO:+0100
END:STANDARD
END:VTIMEZONE
END:VCALENDAR
