BEGIN:VCALENDAR
VERSION:2.0
PRODID:-//destination.one//NONSGML destination.meta API//DE
X-WR-CALDESC:A calendar powered by destination.meta
X-WR-CALNAME:lueneburg Kalender via destination.meta
BEGIN:VEVENT
CATEGORIES:Ferienprogramm
CATEGORIES:Historische Führung
CATEGORIES:Kinderführung
CATEGORIES:Themenführung
DESCRIPTION:Führung für Familien Salz kennt jedes Kind. Ohne das „weiße Gol
 d“ würde unserem Essen etwas fehlen. Aber steckt Salz auch im Spielzeug? U
 nd woher kommt es überhaupt? Kindgerecht und für die ganze Familie wird in
  der spannenden Führung durch das Deutsche Salzmuseum von der vielfältigen
  Verwendung des Salzes erzählt\, von seiner Entstehung und Gewinnung.\n\nE
 ine Anmeldung ist nicht erforderlich. Für Kinder und Jugendliche bis 18 Ja
 hre ist der Eintritt frei\n\nmehr Informationen unter http://pages.destina
 tion.one/de/lueneburg/streaming/detail/Event/e_101252858/familienf-hrung-i
 m-salzmuseum-ohne-salz-schmeckt-das-leben-fad
DTEND;TZID=Europe/Berlin:20260418T153000
DTSTAMP:20260423T084239Z
DTSTART;TZID=Europe/Berlin:20260418T143000
GEO:53.244115;10.402036
LOCATION:Deutsches Salzmuseum\, Sülfmeisterstraße 1\, Lüneburg
ORGANIZER;CN=Deutsches Salzmuseum:mailto:info@salzmuseum.de
SEQUENCE:0
SUMMARY:Familienführung im Salzmuseum: "Ohne Salz schmeckt das Leben fad"
UID:e_101252858_iv0
URL:http://pages.destination.one/de/lueneburg/streaming/detail/Event/e_1012
 52858/familienf-hrung-im-salzmuseum-ohne-salz-schmeckt-das-leben-fad
END:VEVENT
BEGIN:VEVENT
CATEGORIES:Ferienprogramm
CATEGORIES:Historische Führung
CATEGORIES:Kinderführung
CATEGORIES:Themenführung
DESCRIPTION:Führung für Familien Salz kennt jedes Kind. Ohne das „weiße Gol
 d“ würde unserem Essen etwas fehlen. Aber steckt Salz auch im Spielzeug? U
 nd woher kommt es überhaupt? Kindgerecht und für die ganze Familie wird in
  der spannenden Führung durch das Deutsche Salzmuseum von der vielfältigen
  Verwendung des Salzes erzählt\, von seiner Entstehung und Gewinnung.\n\nE
 ine Anmeldung ist nicht erforderlich. Für Kinder und Jugendliche bis 18 Ja
 hre ist der Eintritt frei\n\nmehr Informationen unter http://pages.destina
 tion.one/de/lueneburg/streaming/detail/Event/e_101252858/familienf-hrung-i
 m-salzmuseum-ohne-salz-schmeckt-das-leben-fad
DTEND;TZID=Europe/Berlin:20260502T153000
DTSTAMP:20260423T084239Z
DTSTART;TZID=Europe/Berlin:20260502T143000
GEO:53.244115;10.402036
LOCATION:Deutsches Salzmuseum\, Sülfmeisterstraße 1\, Lüneburg
ORGANIZER;CN=Deutsches Salzmuseum:mailto:info@salzmuseum.de
SEQUENCE:0
SUMMARY:Familienführung im Salzmuseum: "Ohne Salz schmeckt das Leben fad"
UID:e_101252858_iv1
URL:http://pages.destination.one/de/lueneburg/streaming/detail/Event/e_1012
 52858/familienf-hrung-im-salzmuseum-ohne-salz-schmeckt-das-leben-fad
END:VEVENT
BEGIN:VEVENT
CATEGORIES:Ferienprogramm
CATEGORIES:Historische Führung
CATEGORIES:Kinderführung
CATEGORIES:Themenführung
DESCRIPTION:Führung für Familien Salz kennt jedes Kind. Ohne das „weiße Gol
 d“ würde unserem Essen etwas fehlen. Aber steckt Salz auch im Spielzeug? U
 nd woher kommt es überhaupt? Kindgerecht und für die ganze Familie wird in
  der spannenden Führung durch das Deutsche Salzmuseum von der vielfältigen
  Verwendung des Salzes erzählt\, von seiner Entstehung und Gewinnung.\n\nE
 ine Anmeldung ist nicht erforderlich. Für Kinder und Jugendliche bis 18 Ja
 hre ist der Eintritt frei\n\nmehr Informationen unter http://pages.destina
 tion.one/de/lueneburg/streaming/detail/Event/e_101252858/familienf-hrung-i
 m-salzmuseum-ohne-salz-schmeckt-das-leben-fad
DTEND;TZID=Europe/Berlin:20260514T153000
DTSTAMP:20260423T084239Z
DTSTART;TZID=Europe/Berlin:20260514T143000
GEO:53.244115;10.402036
LOCATION:Deutsches Salzmuseum\, Sülfmeisterstraße 1\, Lüneburg
ORGANIZER;CN=Deutsches Salzmuseum:mailto:info@salzmuseum.de
SEQUENCE:0
SUMMARY:Familienführung im Salzmuseum: "Ohne Salz schmeckt das Leben fad"
UID:e_101252858_iv2
URL:http://pages.destination.one/de/lueneburg/streaming/detail/Event/e_1012
 52858/familienf-hrung-im-salzmuseum-ohne-salz-schmeckt-das-leben-fad
END:VEVENT
BEGIN:VEVENT
CATEGORIES:Ferienprogramm
CATEGORIES:Historische Führung
CATEGORIES:Kinderführung
CATEGORIES:Themenführung
DESCRIPTION:Führung für Familien Salz kennt jedes Kind. Ohne das „weiße Gol
 d“ würde unserem Essen etwas fehlen. Aber steckt Salz auch im Spielzeug? U
 nd woher kommt es überhaupt? Kindgerecht und für die ganze Familie wird in
  der spannenden Führung durch das Deutsche Salzmuseum von der vielfältigen
  Verwendung des Salzes erzählt\, von seiner Entstehung und Gewinnung.\n\nE
 ine Anmeldung ist nicht erforderlich. Für Kinder und Jugendliche bis 18 Ja
 hre ist der Eintritt frei\n\nmehr Informationen unter http://pages.destina
 tion.one/de/lueneburg/streaming/detail/Event/e_101252858/familienf-hrung-i
 m-salzmuseum-ohne-salz-schmeckt-das-leben-fad
DTEND;TZID=Europe/Berlin:20260525T153000
DTSTAMP:20260423T084239Z
DTSTART;TZID=Europe/Berlin:20260525T143000
GEO:53.244115;10.402036
LOCATION:Deutsches Salzmuseum\, Sülfmeisterstraße 1\, Lüneburg
ORGANIZER;CN=Deutsches Salzmuseum:mailto:info@salzmuseum.de
SEQUENCE:0
SUMMARY:Familienführung im Salzmuseum: "Ohne Salz schmeckt das Leben fad"
UID:e_101252858_iv3
URL:http://pages.destination.one/de/lueneburg/streaming/detail/Event/e_1012
 52858/familienf-hrung-im-salzmuseum-ohne-salz-schmeckt-das-leben-fad
END:VEVENT
BEGIN:VTIMEZONE
TZID:Europe/Berlin
X-LIC-LOCATION:Europe/Berlin
BEGIN:DAYLIGHT
DTSTART:19700329T020000
RRULE:FREQ=YEARLY;BYDAY=-1SU;BYMONTH=3
TZNAME:CEST
TZOFFSETFROM:+0100
TZOFFSETTO:+0200
END:DAYLIGHT
BEGIN:STANDARD
DTSTART:19701025T030000
RRULE:FREQ=YEARLY;BYDAY=-1SU;BYMONTH=10
TZNAME:CET
TZOFFSETFROM:+0200
TZOFFSETTO:+0100
END:STANDARD
END:VTIMEZONE
END:VCALENDAR
