BEGIN:VCALENDAR
VERSION:2.0
PRODID:-//destination.one//NONSGML destination.meta API//DE
X-WR-CALDESC:A calendar powered by destination.meta
X-WR-CALNAME:lueneburg Kalender via destination.meta
BEGIN:VEVENT
CATEGORIES:Historische Führung
DESCRIPTION:Das Deutsche Salzmuseum – Industriedenkmal Saline LüneburgDas D
 eutsche Salzmuseum verbindet spannendes Wissen rund um den Rohstoff Salz m
 it der Geschichte seines besonderen Standorts. Das Museum befindet sich im
  Industriedenkmal Saline Lüneburg. Hier wurde über 1000 Jahre lang das Sie
 desalz produziert\, welches die Stadt reich und mächtig machte. Seit 1989 
 bewahrt und präsentiert das Deutsche Salzmuseum das Erbe der Saline und hä
 lt die mittelalterliche Technik des Salzsiedens lebendig.\n\nmehr Informat
 ionen unter http://pages.destination.one/de/lueneburg/streaming/detail/Eve
 nt/e_101253934/1000-jahre-salzgeschichte-f-hrung-durch-das-deutsche-salzmu
 seum
DTEND;TZID=Europe/Berlin:20260414T123000
DTSTAMP:20260423T084246Z
DTSTART;TZID=Europe/Berlin:20260414T113000
GEO:53.244115;10.402036
LOCATION:Deutsches Salzmuseum\, Sülfmeisterstraße 1\, Lüneburg
ORGANIZER;CN=Deutsches Salzmuseum:mailto:info@salzmuseum.de
RRULE:FREQ=WEEKLY;UNTIL=20261223T103000;BYDAY=TU,WE,SA,SU
SEQUENCE:0
SUMMARY:1000 Jahre Salzgeschichte – Führung durch das Deutsche Salzmuseum
UID:e_101253934_iv0
URL:http://pages.destination.one/de/lueneburg/streaming/detail/Event/e_1012
 53934/1000-jahre-salzgeschichte-f-hrung-durch-das-deutsche-salzmuseum
END:VEVENT
BEGIN:VEVENT
CATEGORIES:Historische Führung
DESCRIPTION:Das Deutsche Salzmuseum – Industriedenkmal Saline LüneburgDas D
 eutsche Salzmuseum verbindet spannendes Wissen rund um den Rohstoff Salz m
 it der Geschichte seines besonderen Standorts. Das Museum befindet sich im
  Industriedenkmal Saline Lüneburg. Hier wurde über 1000 Jahre lang das Sie
 desalz produziert\, welches die Stadt reich und mächtig machte. Seit 1989 
 bewahrt und präsentiert das Deutsche Salzmuseum das Erbe der Saline und hä
 lt die mittelalterliche Technik des Salzsiedens lebendig.\n\nmehr Informat
 ionen unter http://pages.destination.one/de/lueneburg/streaming/detail/Eve
 nt/e_101253934/1000-jahre-salzgeschichte-f-hrung-durch-das-deutsche-salzmu
 seum
DTEND;TZID=Europe/Berlin:20260414T153000
DTSTAMP:20260423T084246Z
DTSTART;TZID=Europe/Berlin:20260414T143000
GEO:53.244115;10.402036
LOCATION:Deutsches Salzmuseum\, Sülfmeisterstraße 1\, Lüneburg
ORGANIZER;CN=Deutsches Salzmuseum:mailto:info@salzmuseum.de
RRULE:FREQ=WEEKLY;UNTIL=20261223T133000;BYDAY=SU
SEQUENCE:0
SUMMARY:1000 Jahre Salzgeschichte – Führung durch das Deutsche Salzmuseum
UID:e_101253934_iv1
URL:http://pages.destination.one/de/lueneburg/streaming/detail/Event/e_1012
 53934/1000-jahre-salzgeschichte-f-hrung-durch-das-deutsche-salzmuseum
END:VEVENT
BEGIN:VTIMEZONE
TZID:Europe/Berlin
X-LIC-LOCATION:Europe/Berlin
BEGIN:DAYLIGHT
DTSTART:19700329T020000
RRULE:FREQ=YEARLY;BYDAY=-1SU;BYMONTH=3
TZNAME:CEST
TZOFFSETFROM:+0100
TZOFFSETTO:+0200
END:DAYLIGHT
BEGIN:STANDARD
DTSTART:19701025T030000
RRULE:FREQ=YEARLY;BYDAY=-1SU;BYMONTH=10
TZNAME:CET
TZOFFSETFROM:+0200
TZOFFSETTO:+0100
END:STANDARD
END:VTIMEZONE
END:VCALENDAR
