BEGIN:VCALENDAR
VERSION:2.0
PRODID:-//destination.one//NONSGML destination.meta API//DE
X-WR-CALDESC:A calendar powered by destination.meta
X-WR-CALNAME:lueneburg Kalender via destination.meta
BEGIN:VEVENT
CATEGORIES:Ausstellung
CATEGORIES:Konzert
CATEGORIES:Lesung
CATEGORIES:Malkurs
DESCRIPTION:HeideKultour 2026 - Geh auf Tour. Triff Künstler. Erlebe Kultur
 .\n\nmehr Informationen unter http://pages.destination.one/de/lueneburg/st
 reaming/detail/Event/e_101254834/heidekultour-2026-geh-auf-tour-triff-k-ns
 tler-erlebe-kultur
DTEND;TZID=Europe/Berlin:20260425T235900
DTSTAMP:20260420T123655Z
DTSTART;TZID=Europe/Berlin:20260425T100000
GEO:53.278415;10.032836
LOCATION:HeideKULTOUR e.V.\, Zur Aue 1\, Hanstedt
ORGANIZER;CN=HeideKULTOUR e.V.:mailto:info@heidekultour.de
SEQUENCE:0
SUMMARY:HeideKultour 2026 -  Geh auf Tour. Triff Künstler.  Erlebe Kultur.
UID:e_101254834_iv0
URL:http://pages.destination.one/de/lueneburg/streaming/detail/Event/e_1012
 54834/heidekultour-2026-geh-auf-tour-triff-k-nstler-erlebe-kultur
END:VEVENT
BEGIN:VEVENT
CATEGORIES:Ausstellung
CATEGORIES:Konzert
CATEGORIES:Lesung
CATEGORIES:Malkurs
DESCRIPTION:HeideKultour 2026 - Geh auf Tour. Triff Künstler. Erlebe Kultur
 .\n\nmehr Informationen unter http://pages.destination.one/de/lueneburg/st
 reaming/detail/Event/e_101254834/heidekultour-2026-geh-auf-tour-triff-k-ns
 tler-erlebe-kultur
DTEND;TZID=Europe/Berlin:20260426T235900
DTSTAMP:20260420T123655Z
DTSTART;TZID=Europe/Berlin:20260426T100000
GEO:53.278415;10.032836
LOCATION:HeideKULTOUR e.V.\, Zur Aue 1\, Hanstedt
ORGANIZER;CN=HeideKULTOUR e.V.:mailto:info@heidekultour.de
SEQUENCE:0
SUMMARY:HeideKultour 2026 -  Geh auf Tour. Triff Künstler.  Erlebe Kultur.
UID:e_101254834_iv1
URL:http://pages.destination.one/de/lueneburg/streaming/detail/Event/e_1012
 54834/heidekultour-2026-geh-auf-tour-triff-k-nstler-erlebe-kultur
END:VEVENT
BEGIN:VEVENT
CATEGORIES:Ausstellung
CATEGORIES:Konzert
CATEGORIES:Lesung
CATEGORIES:Malkurs
DESCRIPTION:HeideKultour 2026 - Geh auf Tour. Triff Künstler. Erlebe Kultur
 .\n\nmehr Informationen unter http://pages.destination.one/de/lueneburg/st
 reaming/detail/Event/e_101254834/heidekultour-2026-geh-auf-tour-triff-k-ns
 tler-erlebe-kultur
DTEND;TZID=Europe/Berlin:20260501T235900
DTSTAMP:20260420T123655Z
DTSTART;TZID=Europe/Berlin:20260501T100000
GEO:53.278415;10.032836
LOCATION:HeideKULTOUR e.V.\, Zur Aue 1\, Hanstedt
ORGANIZER;CN=HeideKULTOUR e.V.:mailto:info@heidekultour.de
SEQUENCE:0
SUMMARY:HeideKultour 2026 -  Geh auf Tour. Triff Künstler.  Erlebe Kultur.
UID:e_101254834_iv2
URL:http://pages.destination.one/de/lueneburg/streaming/detail/Event/e_1012
 54834/heidekultour-2026-geh-auf-tour-triff-k-nstler-erlebe-kultur
END:VEVENT
BEGIN:VEVENT
CATEGORIES:Ausstellung
CATEGORIES:Konzert
CATEGORIES:Lesung
CATEGORIES:Malkurs
DESCRIPTION:HeideKultour 2026 - Geh auf Tour. Triff Künstler. Erlebe Kultur
 .\n\nmehr Informationen unter http://pages.destination.one/de/lueneburg/st
 reaming/detail/Event/e_101254834/heidekultour-2026-geh-auf-tour-triff-k-ns
 tler-erlebe-kultur
DTEND;TZID=Europe/Berlin:20260502T235900
DTSTAMP:20260420T123655Z
DTSTART;TZID=Europe/Berlin:20260502T100000
GEO:53.278415;10.032836
LOCATION:HeideKULTOUR e.V.\, Zur Aue 1\, Hanstedt
ORGANIZER;CN=HeideKULTOUR e.V.:mailto:info@heidekultour.de
SEQUENCE:0
SUMMARY:HeideKultour 2026 -  Geh auf Tour. Triff Künstler.  Erlebe Kultur.
UID:e_101254834_iv3
URL:http://pages.destination.one/de/lueneburg/streaming/detail/Event/e_1012
 54834/heidekultour-2026-geh-auf-tour-triff-k-nstler-erlebe-kultur
END:VEVENT
BEGIN:VEVENT
CATEGORIES:Ausstellung
CATEGORIES:Konzert
CATEGORIES:Lesung
CATEGORIES:Malkurs
DESCRIPTION:HeideKultour 2026 - Geh auf Tour. Triff Künstler. Erlebe Kultur
 .\n\nmehr Informationen unter http://pages.destination.one/de/lueneburg/st
 reaming/detail/Event/e_101254834/heidekultour-2026-geh-auf-tour-triff-k-ns
 tler-erlebe-kultur
DTEND;TZID=Europe/Berlin:20260503T235900
DTSTAMP:20260420T123655Z
DTSTART;TZID=Europe/Berlin:20260503T100000
GEO:53.278415;10.032836
LOCATION:HeideKULTOUR e.V.\, Zur Aue 1\, Hanstedt
ORGANIZER;CN=HeideKULTOUR e.V.:mailto:info@heidekultour.de
SEQUENCE:0
SUMMARY:HeideKultour 2026 -  Geh auf Tour. Triff Künstler.  Erlebe Kultur.
UID:e_101254834_iv4
URL:http://pages.destination.one/de/lueneburg/streaming/detail/Event/e_1012
 54834/heidekultour-2026-geh-auf-tour-triff-k-nstler-erlebe-kultur
END:VEVENT
BEGIN:VTIMEZONE
TZID:Europe/Berlin
X-LIC-LOCATION:Europe/Berlin
BEGIN:DAYLIGHT
DTSTART:19700329T020000
RRULE:FREQ=YEARLY;BYDAY=-1SU;BYMONTH=3
TZNAME:CEST
TZOFFSETFROM:+0100
TZOFFSETTO:+0200
END:DAYLIGHT
BEGIN:STANDARD
DTSTART:19701025T030000
RRULE:FREQ=YEARLY;BYDAY=-1SU;BYMONTH=10
TZNAME:CET
TZOFFSETFROM:+0200
TZOFFSETTO:+0100
END:STANDARD
END:VTIMEZONE
END:VCALENDAR
