BEGIN:VCALENDAR
VERSION:2.0
PRODID:-//destination.one//NONSGML destination.meta API//DE
X-WR-CALDESC:A calendar powered by destination.meta
X-WR-CALNAME:lueneburg Kalender via destination.meta
BEGIN:VEVENT
CATEGORIES:Konzert
DESCRIPTION:Funk und Acid Jazz der anderen Art.\nMit Talkbox und Vocoder an
  Board\, garantiert "Der Stenz" für Arschwackelfaktor und unvergessliche f
 unky Sounds!\n\nmehr Informationen unter http://pages.destination.one/de/l
 ueneburg/streaming/detail/Event/e_101254903/der-stenz-a-bisserl-funk-geht-
 immer
DTEND;TZID=Europe/Berlin:20260417T230000
DTSTAMP:20260420T100708Z
DTSTART;TZID=Europe/Berlin:20260417T200000
GEO:53.247940;10.406423
LOCATION:Q-Records\, Kuhstr. 1b\, Lüneburg
ORGANIZER;CN=Stefan Baumgart:mailto:info@q-records.de
SEQUENCE:0
SUMMARY:Der Stenz - A bisserl Funk geht immer
UID:e_101254903_iv0
URL:http://pages.destination.one/de/lueneburg/streaming/detail/Event/e_1012
 54903/der-stenz-a-bisserl-funk-geht-immer
END:VEVENT
BEGIN:VTIMEZONE
TZID:Europe/Berlin
X-LIC-LOCATION:Europe/Berlin
BEGIN:DAYLIGHT
DTSTART:19700329T020000
RRULE:FREQ=YEARLY;BYDAY=-1SU;BYMONTH=3
TZNAME:CEST
TZOFFSETFROM:+0100
TZOFFSETTO:+0200
END:DAYLIGHT
BEGIN:STANDARD
DTSTART:19701025T030000
RRULE:FREQ=YEARLY;BYDAY=-1SU;BYMONTH=10
TZNAME:CET
TZOFFSETFROM:+0200
TZOFFSETTO:+0100
END:STANDARD
END:VTIMEZONE
END:VCALENDAR
