BEGIN:VCALENDAR
VERSION:2.0
PRODID:-//destination.one//NONSGML destination.meta API//DE
X-WR-CALDESC:A calendar powered by destination.meta
X-WR-CALNAME:lueneburg Kalender via destination.meta
BEGIN:VEVENT
CATEGORIES:Konzert
DESCRIPTION:Von den Hügeln von Wexford bis zu den Konzerthallen in Deutschl
 and: Ben Turner hat in den letzten Jahren einiges an Reisen zusammenbekomm
 en. Seine Sporen hat er sich in den Straßen und Kneipen Dublins verdient.\
 n\nmehr Informationen unter http://pages.destination.one/de/lueneburg/stre
 aming/detail/Event/e_101254915/ben-turner
DTEND;TZID=Europe/Berlin:20260418T210000
DTSTAMP:20260421T081133Z
DTSTART;TZID=Europe/Berlin:20260418T180000
GEO:53.247940;10.406423
LOCATION:Q-Records\, Kuhstr. 1b\, Lüneburg
ORGANIZER;CN=Stefan Baumgart:mailto:info@q-records.de
SEQUENCE:0
SUMMARY:Ben Turner
UID:e_101254915_iv0
URL:http://pages.destination.one/de/lueneburg/streaming/detail/Event/e_1012
 54915/ben-turner
END:VEVENT
BEGIN:VTIMEZONE
TZID:Europe/Berlin
X-LIC-LOCATION:Europe/Berlin
BEGIN:DAYLIGHT
DTSTART:19700329T020000
RRULE:FREQ=YEARLY;BYDAY=-1SU;BYMONTH=3
TZNAME:CEST
TZOFFSETFROM:+0100
TZOFFSETTO:+0200
END:DAYLIGHT
BEGIN:STANDARD
DTSTART:19701025T030000
RRULE:FREQ=YEARLY;BYDAY=-1SU;BYMONTH=10
TZNAME:CET
TZOFFSETFROM:+0200
TZOFFSETTO:+0100
END:STANDARD
END:VTIMEZONE
END:VCALENDAR
