BEGIN:VCALENDAR
VERSION:2.0
PRODID:-//destination.one//NONSGML destination.meta API//DE
X-WR-CALDESC:A calendar powered by destination.meta
X-WR-CALNAME:lueneburg Kalender via destination.meta
BEGIN:VEVENT
CATEGORIES:Konzert
DESCRIPTION:Cuejero verbindet die Leidenschaft des Flamenco mit nordischen 
 Jazzklängen in einem energiegeladenen Programm aus Eigenkompositionen. Als
  singender Bandleader am Kontrabass gestaltet Javier Sánchez Pérez eine au
 sdrucksstarke musikalische Erzählung.\n\nmehr Informationen unter http://p
 ages.destination.one/de/lueneburg/streaming/detail/Event/e_101254919/cueje
 ro-music-ensemble
DTEND;TZID=Europe/Berlin:20260508T230000
DTSTAMP:20260423T084249Z
DTSTART;TZID=Europe/Berlin:20260508T190000
GEO:53.247940;10.406423
LOCATION:Q-Records\, Kuhstr. 1b\, Lüneburg
ORGANIZER;CN=Stefan Baumgart:mailto:info@q-records.de
SEQUENCE:0
SUMMARY:Cuejero Music Ensemble
UID:e_101254919_iv0
URL:http://pages.destination.one/de/lueneburg/streaming/detail/Event/e_1012
 54919/cuejero-music-ensemble
END:VEVENT
BEGIN:VTIMEZONE
TZID:Europe/Berlin
X-LIC-LOCATION:Europe/Berlin
BEGIN:DAYLIGHT
DTSTART:19700329T020000
RRULE:FREQ=YEARLY;BYDAY=-1SU;BYMONTH=3
TZNAME:CEST
TZOFFSETFROM:+0100
TZOFFSETTO:+0200
END:DAYLIGHT
BEGIN:STANDARD
DTSTART:19701025T030000
RRULE:FREQ=YEARLY;BYDAY=-1SU;BYMONTH=10
TZNAME:CET
TZOFFSETFROM:+0200
TZOFFSETTO:+0100
END:STANDARD
END:VTIMEZONE
END:VCALENDAR
