BEGIN:VCALENDAR
VERSION:2.0
PRODID:-//destination.one//NONSGML destination.meta API//DE
X-WR-CALDESC:A calendar powered by destination.meta
X-WR-CALNAME:lueneburg Kalender via destination.meta
BEGIN:VEVENT
CATEGORIES:Konzert
DESCRIPTION:SKIFFLE Music ist ein Mix aus Jazz\, Country & Western\, Gospel
  & Blues\nsowie Folk und Irish Folk.\n\nmehr Informationen unter http://pa
 ges.destination.one/de/lueneburg/streaming/detail/Event/e_101255210/fr-hsc
 hoppen-konzert-mit-skiffle-train
DTEND;TZID=Europe/Berlin:20260426T140000
DTSTAMP:20260422T085102Z
DTSTART;TZID=Europe/Berlin:20260426T110000
GEO:53.239724;10.435151
LOCATION:Kaffeehaus Kaltenmoor\, St. Stephanus Passage 13\, Lüneburg
ORGANIZER;CN=kaffeehaus Kaltenmoor:mailto:krahn@awocado-service.de
SEQUENCE:0
SUMMARY:Frühschoppen-Konzert mit Skiffle Train
UID:e_101255210_iv0
URL:http://pages.destination.one/de/lueneburg/streaming/detail/Event/e_1012
 55210/fr-hschoppen-konzert-mit-skiffle-train
END:VEVENT
BEGIN:VTIMEZONE
TZID:Europe/Berlin
X-LIC-LOCATION:Europe/Berlin
BEGIN:DAYLIGHT
DTSTART:19700329T020000
RRULE:FREQ=YEARLY;BYDAY=-1SU;BYMONTH=3
TZNAME:CEST
TZOFFSETFROM:+0100
TZOFFSETTO:+0200
END:DAYLIGHT
BEGIN:STANDARD
DTSTART:19701025T030000
RRULE:FREQ=YEARLY;BYDAY=-1SU;BYMONTH=10
TZNAME:CET
TZOFFSETFROM:+0200
TZOFFSETTO:+0100
END:STANDARD
END:VTIMEZONE
END:VCALENDAR
