BEGIN:VCALENDAR
VERSION:2.0
PRODID:-//destination.one//NONSGML destination.meta API//DE
X-WR-CALDESC:A calendar powered by destination.meta
X-WR-CALNAME:lueneburg Kalender via destination.meta
BEGIN:VEVENT
CATEGORIES:Besichtigung & Führung sonstige
CATEGORIES:Führung
CATEGORIES:Themenführung
DESCRIPTION:Führung mit Julian Press im Rahmen der Reihe „Museum Erleben“\n
 \nmehr Informationen unter http://pages.destination.one/de/lueneburg/strea
 ming/detail/Event/e_101258318/museum-erleben-hans-j-rgen-press-1926-2002-u
 nd-seine-bilderwelt
DTEND;TZID=Europe/Berlin:20260505T160000
DTSTAMP:20260423T085322Z
DTSTART;TZID=Europe/Berlin:20260505T143000
GEO:53.246700;10.407000
LOCATION:Ostpreußisches Landesmuseum\, Heiligengeiststraße 38\, Lüneburg
ORGANIZER;CN=Ostpreußisches Landesmuseum:mailto:info@ol-lg.de
SEQUENCE:0
SUMMARY:Museum Erleben | Hans Jürgen Press (1926-2002) und seine Bilderwelt
UID:e_101258318_iv0
URL:http://pages.destination.one/de/lueneburg/streaming/detail/Event/e_1012
 58318/museum-erleben-hans-j-rgen-press-1926-2002-und-seine-bilderwelt
END:VEVENT
BEGIN:VTIMEZONE
TZID:Europe/Berlin
X-LIC-LOCATION:Europe/Berlin
BEGIN:DAYLIGHT
DTSTART:19700329T020000
RRULE:FREQ=YEARLY;BYDAY=-1SU;BYMONTH=3
TZNAME:CEST
TZOFFSETFROM:+0100
TZOFFSETTO:+0200
END:DAYLIGHT
BEGIN:STANDARD
DTSTART:19701025T030000
RRULE:FREQ=YEARLY;BYDAY=-1SU;BYMONTH=10
TZNAME:CET
TZOFFSETFROM:+0200
TZOFFSETTO:+0100
END:STANDARD
END:VTIMEZONE
END:VCALENDAR
