BEGIN:VCALENDAR
VERSION:2.0
PRODID:-//destination.one//NONSGML destination.meta API//DE
X-WR-CALDESC:A calendar powered by destination.meta
X-WR-CALNAME:lueneburg Kalender via destination.meta
BEGIN:VEVENT
CATEGORIES:Kino
DESCRIPTION:„Blow Up"\nvon Michelangelo Antonioni mit Vera Lehndorff (Verus
 chka)\n\nFilmvorführung in der Reihe „Nordöstliche Spuren im Kino“\nim Pro
 grammkino Scala\, Apothekenstr. 17\, 21335 Lüneburg\n\nEinführung: Jan Rüt
 tinger\, Ostpreußisches Landesmuseum\n\nmehr Informationen unter http://pa
 ges.destination.one/de/lueneburg/streaming/detail/Event/e_101258322/filmvo
 rf-hrung-blow-up
DTEND;TZID=Europe/Berlin:20260505T213000
DTSTAMP:20260423T073642Z
DTSTART;TZID=Europe/Berlin:20260505T193000
GEO:53.248943;10.407230
LOCATION:SCALA Programmkino\, Apothekenstraße 17\, Lüneburg
ORGANIZER;CN=Ostpreußisches Landesmuseum:mailto:info@ol-lg.de
SEQUENCE:0
SUMMARY:Filmvorführung | Blow Up
UID:e_101258322_iv0
URL:http://pages.destination.one/de/lueneburg/streaming/detail/Event/e_1012
 58322/filmvorf-hrung-blow-up
END:VEVENT
BEGIN:VTIMEZONE
TZID:Europe/Berlin
X-LIC-LOCATION:Europe/Berlin
BEGIN:DAYLIGHT
DTSTART:19700329T020000
RRULE:FREQ=YEARLY;BYDAY=-1SU;BYMONTH=3
TZNAME:CEST
TZOFFSETFROM:+0100
TZOFFSETTO:+0200
END:DAYLIGHT
BEGIN:STANDARD
DTSTART:19701025T030000
RRULE:FREQ=YEARLY;BYDAY=-1SU;BYMONTH=10
TZNAME:CET
TZOFFSETFROM:+0200
TZOFFSETTO:+0100
END:STANDARD
END:VTIMEZONE
END:VCALENDAR
