BEGIN:VCALENDAR
VERSION:2.0
PRODID:-//destination.one//NONSGML destination.meta API//DE
X-WR-CALDESC:A calendar powered by destination.meta
X-WR-CALNAME:lueneburg Kalender via destination.meta
BEGIN:VEVENT
CATEGORIES:Vortrag\, Diskussion\, Lesung sonstige
DESCRIPTION:Vortrag von Dr. Christina Deggim im Rahmen der Reihe „Museum Er
 leben“\n\n1945 wurde in Dänemark die Flygtningeadministrationens Kartotek 
 aufgebaut – ein Register der nach dem Ende des Zweiten Weltkriegs internie
 rten\, überwiegend deutschen\, Flüchtlinge in Dänemark.\n\nmehr Informatio
 nen unter http://pages.destination.one/de/lueneburg/streaming/detail/Event
 /e_101258618/museum-erleben-wie-wir-sie-fanden-die-fl-chtlingssuchkartei-k
 openhagen-stade
DTEND;TZID=Europe/Berlin:20260602T160000
DTSTAMP:20260423T075254Z
DTSTART;TZID=Europe/Berlin:20260602T143000
GEO:53.246700;10.407000
LOCATION:Ostpreußisches Landesmuseum\, Heiligengeiststraße 38\, Lüneburg
ORGANIZER;CN=Ostpreußisches Landesmuseum:mailto:info@ol-lg.de
SEQUENCE:0
SUMMARY:Museum Erleben | „Wie wir sie fanden“ – die Flüchtlingssuchkartei K
 openhagen-Stade
UID:e_101258618_iv0
URL:http://pages.destination.one/de/lueneburg/streaming/detail/Event/e_1012
 58618/museum-erleben-wie-wir-sie-fanden-die-fl-chtlingssuchkartei-kopenhag
 en-stade
END:VEVENT
BEGIN:VTIMEZONE
TZID:Europe/Berlin
X-LIC-LOCATION:Europe/Berlin
BEGIN:DAYLIGHT
DTSTART:19700329T020000
RRULE:FREQ=YEARLY;BYDAY=-1SU;BYMONTH=3
TZNAME:CEST
TZOFFSETFROM:+0100
TZOFFSETTO:+0200
END:DAYLIGHT
BEGIN:STANDARD
DTSTART:19701025T030000
RRULE:FREQ=YEARLY;BYDAY=-1SU;BYMONTH=10
TZNAME:CET
TZOFFSETFROM:+0200
TZOFFSETTO:+0100
END:STANDARD
END:VTIMEZONE
END:VCALENDAR
