BEGIN:VCALENDAR
VERSION:2.0
PRODID:-//destination.one//NONSGML destination.meta API//DE
X-WR-CALDESC:A calendar powered by destination.meta
X-WR-CALNAME:lueneburg Kalender via destination.meta
BEGIN:VEVENT
CATEGORIES:Familien/Kinder sonstige
CATEGORIES:Kindertag
CATEGORIES:Lesung
DESCRIPTION:Begleitend zu der Ausstellung „Der kleine Herr Jakob. Hans Jürg
 en Press und seine Bilderwelt“ im Ostpreußischen Landesmuseum in Lüneburg 
 hält sein Sohn Julian Press eine interaktive Lesung zum Mitraten vor Ort. 
 Als Autor\, Illustrator und Künstler präsentiert er Kriminalgeschichten au
 s seiner Buchreihe „Finde den Täter“ sowie spannende Detektivgeschichten u
 nd raffinierte\, wimmelige Rätselbilder seines Vaters für junge findige Sp
 ürnasen von 7 bis 13 Jahren.\n\nmehr Informationen unter http://pages.dest
 ination.one/de/lueneburg/streaming/detail/Event/e_101258622/l-neburg-liest
 -mitmach-lesung-mit-julian-press
DTEND;TZID=Europe/Berlin:20260604T170000
DTSTAMP:20260423T072630Z
DTSTART;TZID=Europe/Berlin:20260604T160000
GEO:53.246700;10.407000
LOCATION:Ostpreußisches Landesmuseum\, Heiligengeiststraße 38\, Lüneburg
ORGANIZER;CN=Ostpreußisches Landesmuseum:mailto:info@ol-lg.de
SEQUENCE:0
SUMMARY:Lüneburg liest! | Mitmach-Lesung mit Julian Press
UID:e_101258622_iv0
URL:http://pages.destination.one/de/lueneburg/streaming/detail/Event/e_1012
 58622/l-neburg-liest-mitmach-lesung-mit-julian-press
END:VEVENT
BEGIN:VTIMEZONE
TZID:Europe/Berlin
X-LIC-LOCATION:Europe/Berlin
BEGIN:DAYLIGHT
DTSTART:19700329T020000
RRULE:FREQ=YEARLY;BYDAY=-1SU;BYMONTH=3
TZNAME:CEST
TZOFFSETFROM:+0100
TZOFFSETTO:+0200
END:DAYLIGHT
BEGIN:STANDARD
DTSTART:19701025T030000
RRULE:FREQ=YEARLY;BYDAY=-1SU;BYMONTH=10
TZNAME:CET
TZOFFSETFROM:+0200
TZOFFSETTO:+0100
END:STANDARD
END:VTIMEZONE
END:VCALENDAR
