BEGIN:VCALENDAR
VERSION:2.0
PRODID:-//destination.one//NONSGML destination.meta API//DE
X-WR-CALDESC:A calendar powered by destination.meta
X-WR-CALNAME:lueneburg Kalender via destination.meta
BEGIN:VEVENT
CATEGORIES:SUP (Stand-Up-Paddling)
CATEGORIES:Vortrag\, Diskussion\, Lesung sonstige
DESCRIPTION:Vortrag von Dr. Ralf Meindl\, Autor des Buches „Der Landkreis A
 llenstein. Geschichtliche Entwicklung und Gegenwart“\nim Rahmen der Reihe 
 „Museum Erleben“\n\nmehr Informationen unter http://pages.destination.one/
 de/lueneburg/streaming/detail/Event/e_101258651/museum-erleben-zeitreise-d
 urch-den-landkreis-allenstein
DTEND;TZID=Europe/Berlin:20260616T160000
DTSTAMP:20260423T072308Z
DTSTART;TZID=Europe/Berlin:20260616T143000
GEO:53.246700;10.407000
LOCATION:Ostpreußisches Landesmuseum\, Heiligengeiststraße 38\, Lüneburg
ORGANIZER;CN=Ostpreußisches Landesmuseum:mailto:info@ol-lg.de
SEQUENCE:0
SUMMARY:Museum Erleben | Zeitreise durch den Landkreis Allenstein
UID:e_101258651_iv0
URL:http://pages.destination.one/de/lueneburg/streaming/detail/Event/e_1012
 58651/museum-erleben-zeitreise-durch-den-landkreis-allenstein
END:VEVENT
BEGIN:VTIMEZONE
TZID:Europe/Berlin
X-LIC-LOCATION:Europe/Berlin
BEGIN:DAYLIGHT
DTSTART:19700329T020000
RRULE:FREQ=YEARLY;BYDAY=-1SU;BYMONTH=3
TZNAME:CEST
TZOFFSETFROM:+0100
TZOFFSETTO:+0200
END:DAYLIGHT
BEGIN:STANDARD
DTSTART:19701025T030000
RRULE:FREQ=YEARLY;BYDAY=-1SU;BYMONTH=10
TZNAME:CET
TZOFFSETFROM:+0200
TZOFFSETTO:+0100
END:STANDARD
END:VTIMEZONE
END:VCALENDAR
