BEGIN:VCALENDAR
VERSION:2.0
PRODID:-//destination.one//NONSGML destination.meta API//DE
X-WR-CALDESC:A calendar powered by destination.meta
X-WR-CALNAME:lueneburg Kalender via destination.meta
BEGIN:VEVENT
CATEGORIES:Konzert
DESCRIPTION:Hallo Lüneburg\, es ist wieder Zeit für gute Musik!\nAn jedem l
 etzten Samstag im Monat laden wir euch in den größten Saal im Zentrum von 
 Lüneburg ein\, um ein doppeltes Wohnzimmerkonzert in gemütlicher Atmosphär
 e zu genießen und heute mit:\n\n19:30 Uhr: Peter Kröger Handpan\n\nmehr In
 formationen unter http://pages.destination.one/de/lueneburg/streaming/deta
 il/Event/e_101259484/wohnzimmerkonzert-peter-kr-ger-handpan-rezound
DTEND;TZID=Europe/Berlin:20260530T213000
DTSTAMP:20260424T091725Z
DTSTART;TZID=Europe/Berlin:20260530T193000
GEO:53.249127;10.405496
LOCATION:Mosaique\, Katzenstraße 1\, Lüneburg
ORGANIZER;CN=mosaique - Haus der Kulturen:mailto:info@mosaique-lueneburg.de
SEQUENCE:0
SUMMARY: Wohnzimmerkonzert: Peter Kröger Handpan & ReZound
UID:e_101259484_iv0
URL:http://pages.destination.one/de/lueneburg/streaming/detail/Event/e_1012
 59484/wohnzimmerkonzert-peter-kr-ger-handpan-rezound
END:VEVENT
BEGIN:VTIMEZONE
TZID:Europe/Berlin
X-LIC-LOCATION:Europe/Berlin
BEGIN:DAYLIGHT
DTSTART:19700329T020000
RRULE:FREQ=YEARLY;BYDAY=-1SU;BYMONTH=3
TZNAME:CEST
TZOFFSETFROM:+0100
TZOFFSETTO:+0200
END:DAYLIGHT
BEGIN:STANDARD
DTSTART:19701025T030000
RRULE:FREQ=YEARLY;BYDAY=-1SU;BYMONTH=10
TZNAME:CET
TZOFFSETFROM:+0200
TZOFFSETTO:+0100
END:STANDARD
END:VTIMEZONE
END:VCALENDAR
