BEGIN:VCALENDAR
VERSION:2.0
PRODID:-//destination.one//NONSGML destination.meta API//DE
X-WR-CALDESC:A calendar powered by destination.meta
X-WR-CALNAME:lueneburg Kalender via destination.meta
BEGIN:VEVENT
CATEGORIES:Nachtleben sonstige
CATEGORIES:Show sonstige
DESCRIPTION:Packende Duelle im Q-Records\, Spannung bis zum Schluss und ein
  strahlender Sieger – das war das Fazit der fünften Lüneburger Stadtmeiste
 rschaft im Schnick-Schnack-Schnuck. Am Freitag\, 12. Juni 2026\, geht der 
 Wettkampf im neuen Trend-Kneipensport - auch bekannt als „Schere-Stein-Pap
 ier“ – in die nächste Runde. Im Plattenladen-Café „Q-Records“ in der Lüneb
 urger Kuhstraße wird ein Herausforderer/in für die amtierende Meister „Ost
 seeschlange“ gesucht\, der leider am 12.06.26 verhindert ist.\n\nmehr Info
 rmationen unter http://pages.destination.one/de/lueneburg/streaming/detail
 /Event/e_101259999/6-l-neburger-stadtmeisterschaft-im-schnick-schnack-schn
 uck
DTEND;TZID=Europe/Berlin:20260612T223000
DTSTAMP:20260424T091927Z
DTSTART;TZID=Europe/Berlin:20260612T190000
GEO:53.247940;10.406423
LOCATION:Q-Records\, Kuhstraße 1b\, Lüneburg
SEQUENCE:0
SUMMARY:6. Lüneburger Stadtmeisterschaft im „Schnick-Schnack-Schnuck
UID:e_101259999_iv0
URL:http://pages.destination.one/de/lueneburg/streaming/detail/Event/e_1012
 59999/6-l-neburger-stadtmeisterschaft-im-schnick-schnack-schnuck
END:VEVENT
BEGIN:VTIMEZONE
TZID:Europe/Berlin
X-LIC-LOCATION:Europe/Berlin
BEGIN:DAYLIGHT
DTSTART:19700329T020000
RRULE:FREQ=YEARLY;BYDAY=-1SU;BYMONTH=3
TZNAME:CEST
TZOFFSETFROM:+0100
TZOFFSETTO:+0200
END:DAYLIGHT
BEGIN:STANDARD
DTSTART:19701025T030000
RRULE:FREQ=YEARLY;BYDAY=-1SU;BYMONTH=10
TZNAME:CET
TZOFFSETFROM:+0200
TZOFFSETTO:+0100
END:STANDARD
END:VTIMEZONE
END:VCALENDAR
