BEGIN:VCALENDAR
VERSION:2.0
PRODID:-//destination.one//NONSGML destination.meta API//DE
X-WR-CALDESC:A calendar powered by destination.meta
X-WR-CALNAME:lueneburg Kalender via destination.meta
BEGIN:VEVENT
CATEGORIES:Party
DESCRIPTION:Nicht nur persönliche Lieblingsmusik legt „Contra-Party“-DJ Mar
 tin am Samstag\, 30.05.2026\, im „Q-Records“ in der Kuhstraße auf. Unter d
 em Motto „Tanzbar Total“ hört ihr deutschsprachige Musik aus allen Genres\
 , die nicht kuschelt\, sondern knallt. Punk trifft Pop\, Ska küsst Reggae\
 , Rock knallt Alternative\, NDW flirtet mit HipHop/Rap. Alles auf einer Ta
 nzfläche.\n\nmehr Informationen unter http://pages.destination.one/de/luen
 eburg/streaming/detail/Event/e_101260010/party-tanzbar-total
DTEND;TZID=Europe/Berlin:20260531T000000
DTSTAMP:20260424T091641Z
DTSTART;TZID=Europe/Berlin:20260530T190000
GEO:53.247940;10.406423
LOCATION:Q-Records\, Kuhstr. 1b\, Lüneburg
ORGANIZER;CN=Martin Schröder:mailto:xmalpromotion@googlemail.com
SEQUENCE:0
SUMMARY:Party „Tanzbar Total“ 
UID:e_101260010_iv0
URL:http://pages.destination.one/de/lueneburg/streaming/detail/Event/e_1012
 60010/party-tanzbar-total
END:VEVENT
BEGIN:VTIMEZONE
TZID:Europe/Berlin
X-LIC-LOCATION:Europe/Berlin
BEGIN:DAYLIGHT
DTSTART:19700329T020000
RRULE:FREQ=YEARLY;BYDAY=-1SU;BYMONTH=3
TZNAME:CEST
TZOFFSETFROM:+0100
TZOFFSETTO:+0200
END:DAYLIGHT
BEGIN:STANDARD
DTSTART:19701025T030000
RRULE:FREQ=YEARLY;BYDAY=-1SU;BYMONTH=10
TZNAME:CET
TZOFFSETFROM:+0200
TZOFFSETTO:+0100
END:STANDARD
END:VTIMEZONE
END:VCALENDAR
